BEGIN:VCALENDAR
VERSION:2.0
PRODID:-//www.thearcfamilyinstitute.org//NONSGML kigkonsult.se iCalcreator 
 2.30.10//
CALSCALE:GREGORIAN
METHOD:PUBLISH
UID:49a0338e-d9d3-4c19-a976-d07f44b26dd1
X-WR-CALDESC:**This is a recording of a previous webinar. Experience it for
  the first time or rewatch it to gain a better understanding of the topic.
  The question box will be open and we will respond to any questions 24 hou
 rs after the event. \n\nWe will explore the ways in which we spend money: 
 What are your wants? What are your needs? Do you buy mostly things? Or do 
 you spend money mostly on experiences? Are you happy with your answers? On
 ce we have an idea of how we spend our money\, we will learn some decision
  making strategies that can help us to make better financial decisions. Th
 en we will apply those decision making skills together to practice differe
 nt scenarios so we are prepared for our next financial decision!
X-WR-RELCALID:f7df559838cc4d9ab67af6a70d95f0a4
X-WR-TIMEZONE:America/New_York
BEGIN:VTIMEZONE
TZID:America/New_York
BEGIN:STANDARD
TZNAME:EST
DTSTART:20231105T020000
TZOFFSETFROM:-0400
TZOFFSETTO:-0500
RDATE:20241103T020000
RDATE:20251102T020000
END:STANDARD
BEGIN:DAYLIGHT
TZNAME:EDT
DTSTART:20240310T020000
TZOFFSETFROM:-0500
TZOFFSETTO:-0400
RDATE:20250309T020000
RDATE:20260308T020000
END:DAYLIGHT
END:VTIMEZONE
BEGIN:VEVENT
UID:d843c58a-8e3a-4d4b-ab88-a28b712ef5f6
DTSTAMP:20260424T073928Z
DESCRIPTION:**This is a recording of a previous webinar. Experience it for 
 the first time or rewatch it to gain a better understanding of the topic. 
 The question box will be open and we will respond to any questions 24 hour
 s after the event. \n\nWe will explore the ways in which we spend money: W
 hat are your wants? What are your needs? Do you buy mostly things? Or do y
 ou spend money mostly on experiences? Are you happy with your answers? Onc
 e we have an idea of how we spend our money\, we will learn some decision 
 making strategies that can help us to make better financial decisions. The
 n we will apply those decision making skills together to practice differen
 t scenarios so we are prepared for our next financial decision!
DTSTART;TZID=America/New_York:20240917T140000
DTEND;TZID=America/New_York:20240917T150000
LOCATION:https://us06web.zoom.us/webinar/register/WN_6PNBThMgR0yybH-wU-1kww
 #/registration
SUMMARY:REPLAY: Money Management: Where Does Our Money Go and How Can We Ma
 ke Better Decisions?
END:VEVENT
END:VCALENDAR
