BEGIN:VCALENDAR
VERSION:2.0
PRODID:-//www.thearcfamilyinstitute.org//NONSGML kigkonsult.se iCalcreator 
 2.30.10//
CALSCALE:GREGORIAN
METHOD:PUBLISH
UID:175ba781-d3b3-43a0-9c64-a4dd51d44088
X-WR-CALDESC:Join us for a Fireside Chat with Reed Thomas at the Mercer Cou
 nty Office on Aging/ ADRC. Reed is the Program Monitor/PASP Coordinator. h
 ttps://www.adrcnj.org/
X-WR-RELCALID:baa58f2803138ebe087e8f83e28ce467
X-WR-TIMEZONE:America/New_York
BEGIN:VTIMEZONE
TZID:America/New_York
BEGIN:STANDARD
TZNAME:EST
DTSTART:20231105T020000
TZOFFSETFROM:-0400
TZOFFSETTO:-0500
RDATE:20241103T020000
RDATE:20251102T020000
END:STANDARD
BEGIN:DAYLIGHT
TZNAME:EDT
DTSTART:20240310T020000
TZOFFSETFROM:-0500
TZOFFSETTO:-0400
RDATE:20250309T020000
RDATE:20260308T020000
END:DAYLIGHT
END:VTIMEZONE
BEGIN:VEVENT
UID:0bf19c2f-d24b-46ca-a06b-348f1bd75b46
DTSTAMP:20260424T073712Z
DESCRIPTION:Join us for a Fireside Chat with Reed Thomas at the Mercer Coun
 ty Office on Aging/ ADRC. Reed is the Program Monitor/PASP Coordinator. ht
 tps://www.adrcnj.org/
DTSTART;TZID=America/New_York:20240917T130000
DTEND;TZID=America/New_York:20240917T140000
LOCATION:https://us06web.zoom.us/meeting/register/tZ0pcumsqTkiHNIUs4dXOYFZN
 feccKDmwI5a
SUMMARY:Fireside Chat with Reed Thomas - Mercer County Office on Aging/ADRC
END:VEVENT
END:VCALENDAR
