BEGIN:VCALENDAR
VERSION:2.0
PRODID:-//www.thearcfamilyinstitute.org//NONSGML kigkonsult.se iCalcreator 
 2.30.10//
CALSCALE:GREGORIAN
METHOD:PUBLISH
UID:cb900928-a61e-412e-9a0d-938f36940b47
X-WR-CALDESC:Learn options for securing and funding residential services. A
 fter registering\, you will receive a confirmation email containing inform
 ation about joining the meeting.
X-WR-RELCALID:4716aa6aac9ea59c104a615ce2523883
X-WR-TIMEZONE:America/New_York
BEGIN:VTIMEZONE
TZID:America/New_York
BEGIN:STANDARD
TZNAME:EST
DTSTART:20231105T020000
TZOFFSETFROM:-0400
TZOFFSETTO:-0500
RDATE:20241103T020000
RDATE:20251102T020000
END:STANDARD
BEGIN:DAYLIGHT
TZNAME:EDT
DTSTART:20240310T020000
TZOFFSETFROM:-0500
TZOFFSETTO:-0400
RDATE:20250309T020000
RDATE:20260308T020000
END:DAYLIGHT
END:VTIMEZONE
BEGIN:VEVENT
UID:4efd9fd9-e366-401f-8e51-98e3b066570a
DTSTAMP:20260424T073834Z
DESCRIPTION:Learn options for securing and funding residential services. Af
 ter registering\, you will receive a confirmation email containing informa
 tion about joining the meeting.
DTSTART;TZID=America/New_York:20240912T183000
DTEND;TZID=America/New_York:20240912T193000
LOCATION:https://hinkle1.zoom.us/meeting/register/tZUrf-yoqz8uHdb1Pv-8OF0wm
 5bP-jYLQSyW
SUMMARY:Housing and Residential Supports: Traditional and Creative Options
END:VEVENT
END:VCALENDAR
