BEGIN:VCALENDAR
VERSION:2.0
PRODID:-//www.thearcfamilyinstitute.org//NONSGML kigkonsult.se iCalcreator 
 2.30.10//
CALSCALE:GREGORIAN
METHOD:PUBLISH
UID:26a09924-14eb-4331-8571-13141b56b456
X-WR-CALDESC:Identifying and addressing the unique barriers and health disp
 arities faced by adults with intellectual and developmental disabilities (
 I/DD)\, while equipping participants with strategies for effective communi
 cation\, supported decision-making\, and access to appropriate health and 
 community resources. We will explore the challenges associated with aging 
 care needs within this population\, fostering a comprehensive understandin
 g of their healthcare requirements.
X-WR-RELCALID:feb22457e77543abec40159271507430
X-WR-TIMEZONE:America/New_York
BEGIN:VTIMEZONE
TZID:America/New_York
BEGIN:STANDARD
TZNAME:EST
DTSTART:20231105T020000
TZOFFSETFROM:-0400
TZOFFSETTO:-0500
RDATE:20241103T020000
RDATE:20251102T020000
END:STANDARD
BEGIN:DAYLIGHT
TZNAME:EDT
DTSTART:20240310T020000
TZOFFSETFROM:-0500
TZOFFSETTO:-0400
RDATE:20250309T020000
RDATE:20260308T020000
END:DAYLIGHT
END:VTIMEZONE
BEGIN:VEVENT
UID:670f654f-fe8b-409a-98fc-dfeb89bbbb79
DTSTAMP:20260424T073610Z
DESCRIPTION:Identifying and addressing the unique barriers and health dispa
 rities faced by adults with intellectual and developmental disabilities (I
 /DD)\, while equipping participants with strategies for effective communic
 ation\, supported decision-making\, and access to appropriate health and c
 ommunity resources. We will explore the challenges associated with aging c
 are needs within this population\, fostering a comprehensive understanding
  of their healthcare requirements.
DTSTART;TZID=America/New_York:20240912T120000
DTEND;TZID=America/New_York:20240912T130000
LOCATION:https://rutgers.ca1.qualtrics.com/jfe/form/SV_d72ad7Nsp48nqXs?NAS=
 1
SUMMARY:Optimizing Care for Aging Adults with I/DD: A Simulation-Based ECHO
  Model Approach (I/DD ECHO)
END:VEVENT
END:VCALENDAR
