BEGIN:VCALENDAR
VERSION:2.0
PRODID:-//www.thearcfamilyinstitute.org//NONSGML kigkonsult.se iCalcreator 
 2.30.10//
CALSCALE:GREGORIAN
METHOD:PUBLISH
UID:2b8eed64-bbd9-4560-b0da-325e4e0fa5ab
X-WR-CALDESC:Learn all about the Health Care Advocacy Program with Lisa For
 d. The Arc of New Jersey Family Institute provides families with the neces
 sary resources and education to access the appropriate supports and servic
 es for their loved one with an intellectual and developmental disability (
 IDD).\n\nLisa Ford is the Director of The Arc of New Jersey Family Institu
 te. Lisa’s vision for the Family Institute has resulted in the program bec
 oming the “Go To Place” for information for families- caring for a loved o
 ne with intellectual and developmental disabilities. Lisa has made it her 
 life’s work to help families find the necessary information needed to navi
 gate through the system. She does this by talking with families\, listenin
 g to what their needs are and connecting them to the help they need. Prior
  to her role as Senior Director of the Institute\, Lisa worked as a Naviga
 tor for The Arc of New Jersey’s Planning for Adult Life Program which help
 s students with IDD transition out of their educational entitlement and in
 to the adult world. Before joining The Arc\, Lisa taught for 17 years in b
 oth the classroom and as a Special Education Itinerant Teacher in New York
 . She obtained a Master of Science in Special Education and a Bachelor of 
 Science in Education from Wagner College.
X-WR-RELCALID:da52235e076c0b42ae59ec23f11e6eb8
X-WR-TIMEZONE:America/New_York
BEGIN:VTIMEZONE
TZID:America/New_York
BEGIN:STANDARD
TZNAME:EST
DTSTART:20231105T020000
TZOFFSETFROM:-0400
TZOFFSETTO:-0500
RDATE:20241103T020000
RDATE:20251102T020000
END:STANDARD
BEGIN:DAYLIGHT
TZNAME:EDT
DTSTART:20240310T020000
TZOFFSETFROM:-0500
TZOFFSETTO:-0400
RDATE:20250309T020000
END:DAYLIGHT
END:VTIMEZONE
BEGIN:VEVENT
UID:6c3c390d-1c03-4428-bf86-372bae370bbd
DTSTAMP:20260424T073948Z
DESCRIPTION:Learn all about the Health Care Advocacy Program with Lisa Ford
 . The Arc of New Jersey Family Institute provides families with the necess
 ary resources and education to access the appropriate supports and service
 s for their loved one with an intellectual and developmental disability (I
 DD).\n\nLisa Ford is the Director of The Arc of New Jersey Family Institut
 e. Lisa’s vision for the Family Institute has resulted in the program beco
 ming the “Go To Place” for information for families- caring for a loved on
 e with intellectual and developmental disabilities. Lisa has made it her l
 ife’s work to help families find the necessary information needed to navig
 ate through the system. She does this by talking with families\, listening
  to what their needs are and connecting them to the help they need. Prior 
 to her role as Senior Director of the Institute\, Lisa worked as a Navigat
 or for The Arc of New Jersey’s Planning for Adult Life Program which helps
  students with IDD transition out of their educational entitlement and int
 o the adult world. Before joining The Arc\, Lisa taught for 17 years in bo
 th the classroom and as a Special Education Itinerant Teacher in New York.
  She obtained a Master of Science in Special Education and a Bachelor of S
 cience in Education from Wagner College.
DTSTART;TZID=America/New_York:20240903T140000
DTEND;TZID=America/New_York:20240903T150000
LOCATION:https://us06web.zoom.us/webinar/register/WN__IXpZhvOSEmxuatXN1ADxg
 #/registration
SUMMARY:The Arc of NJ Series:  ﻿Family Institute
END:VEVENT
END:VCALENDAR
