BEGIN:VCALENDAR
VERSION:2.0
PRODID:-//www.thearcfamilyinstitute.org//NONSGML kigkonsult.se iCalcreator 
 2.30.10//
CALSCALE:GREGORIAN
METHOD:PUBLISH
UID:2ffdbf02-fc42-4ca2-adb4-6e4a10c62751
X-WR-CALDESC:**This is a recording of a previous webinar. Experience it for
  the first time or rewatch it to gain a better understanding of the topic.
  The question box will be open and we will respond to any questions 24 hou
 rs after the event. \n\n\n\nMental Illness is significantly more common in
  individuals with I/DD than in the typically developing population. Unfort
 unately\, many professionals are not equipped to recognize symptoms and re
 sources tend to be hard to find. In this presentation\, Dr. Alison O’Conno
 r\, will go over some common risk factors\, symptoms to look out for\, and
  ways to get help. Dr. Alison O’Connor is a licensed psychologist and boar
 d certified behavior analyst who specializes in working with individuals w
 ho are dually-diagnosed with an I/DD and a psychiatric disorder. She is cu
 rrently the Director of Clinical Supports at The Arc\, Ocean County Chapte
 r and has a small private practice\, Fern Psychological Services\, where s
 he sees patients virtually. She spends all her free time loving her three 
 wild pups.
X-WR-RELCALID:14a77999286a5698f127fcda82e5e007
X-WR-TIMEZONE:America/New_York
BEGIN:VTIMEZONE
TZID:America/New_York
BEGIN:STANDARD
TZNAME:EST
DTSTART:20231105T020000
TZOFFSETFROM:-0400
TZOFFSETTO:-0500
RDATE:20241103T020000
RDATE:20251102T020000
END:STANDARD
BEGIN:DAYLIGHT
TZNAME:EDT
DTSTART:20240310T020000
TZOFFSETFROM:-0500
TZOFFSETTO:-0400
RDATE:20250309T020000
END:DAYLIGHT
END:VTIMEZONE
BEGIN:VEVENT
UID:cc0a4df0-dea4-413f-945e-e745a9c42b1f
DTSTAMP:20260424T085340Z
DESCRIPTION:**This is a recording of a previous webinar. Experience it for 
 the first time or rewatch it to gain a better understanding of the topic. 
 The question box will be open and we will respond to any questions 24 hour
 s after the event. \n\n\n\nMental Illness is significantly more common in 
 individuals with I/DD than in the typically developing population. Unfortu
 nately\, many professionals are not equipped to recognize symptoms and res
 ources tend to be hard to find. In this presentation\, Dr. Alison O’Connor
 \, will go over some common risk factors\, symptoms to look out for\, and 
 ways to get help. Dr. Alison O’Connor is a licensed psychologist and board
  certified behavior analyst who specializes in working with individuals wh
 o are dually-diagnosed with an I/DD and a psychiatric disorder. She is cur
 rently the Director of Clinical Supports at The Arc\, Ocean County Chapter
  and has a small private practice\, Fern Psychological Services\, where sh
 e sees patients virtually. She spends all her free time loving her three w
 ild pups.
DTSTART;TZID=America/New_York:20240827T140000
DTEND;TZID=America/New_York:20240827T150000
LOCATION:https://us06web.zoom.us/webinar/register/WN_6nktnAiZQg69VtvE2M3IWQ
 #/registration
SUMMARY:REPLAY: IDD and Mental Illness: What to Look For and How to Get Hel
 p
END:VEVENT
END:VCALENDAR
