BEGIN:VCALENDAR
VERSION:2.0
PRODID:-//www.thearcfamilyinstitute.org//NONSGML kigkonsult.se iCalcreator 
 2.30.10//
CALSCALE:GREGORIAN
METHOD:PUBLISH
UID:fcf64e74-685e-499e-88d7-88e6ca2e1e0a
X-WR-CALDESC:
X-WR-RELCALID:81c9ceb4918cda1fcc2e49891b96c69a
X-WR-TIMEZONE:America/New_York
BEGIN:VTIMEZONE
TZID:America/New_York
BEGIN:STANDARD
TZNAME:EST
DTSTART:20231105T020000
TZOFFSETFROM:-0400
TZOFFSETTO:-0500
RDATE:20241103T020000
RDATE:20251102T020000
END:STANDARD
BEGIN:DAYLIGHT
TZNAME:EDT
DTSTART:20240310T020000
TZOFFSETFROM:-0500
TZOFFSETTO:-0400
RDATE:20250309T020000
END:DAYLIGHT
END:VTIMEZONE
BEGIN:VEVENT
UID:cbe74192-74e7-41dc-b142-209ab5099186
DTSTAMP:20260424T110713Z
DESCRIPTION:
DTSTART;TZID=America/New_York:20240618T180000
DTEND;TZID=America/New_York:20240618T190000
LOCATION:https://us06web.zoom.us/meeting/register/tZMsdOCsrTwuGtfB28bc0dZJR
 e4GzwvOaVoK
SUMMARY:Zoom with Us! An Overview of Self Direction Services\, Personal Car
 e Assistant (PCA) and the Personal Preference Program (PPP)
END:VEVENT
END:VCALENDAR
