BEGIN:VCALENDAR
VERSION:2.0
PRODID:-//www.thearcfamilyinstitute.org//NONSGML kigkonsult.se iCalcreator 
 2.30.10//
CALSCALE:GREGORIAN
METHOD:PUBLISH
UID:5dcbbc2f-8f63-4571-a914-0f31908982e5
X-WR-CALDESC:Join us for a virtual tour of  Passaic County Community Colleg
 e CAT - Culinary Arts Vocational Certificate Program. Find out more detail
 s about the program below. \n\n- Hands-on training program that prepares s
 tudents in the neurodivergent population aged 18 to 24.\n\n- This certific
 ate program provides students with the job readiness skills in the food/ho
 spitality industry. \n\n- Program workshops focus on job preparation. Topi
 cs covered include: Culinary Arts Techniques\, Interview Prep\, Stress Man
 agement\, Advocacy Skills\, Mock interviews\, Resume Development\, etc.\n
 \n- Contact: Ikwilliams@pccc.edu\, (973) 684-5801 - Passaic County Communi
 ty College Wanaque Campus 500 Union Ave Haskell NJ 07420
X-WR-RELCALID:533361c25b09ceb2fe6003600c23b531
X-WR-TIMEZONE:America/New_York
BEGIN:VTIMEZONE
TZID:America/New_York
BEGIN:STANDARD
TZNAME:EST
DTSTART:20231105T020000
TZOFFSETFROM:-0400
TZOFFSETTO:-0500
RDATE:20241103T020000
RDATE:20251102T020000
END:STANDARD
BEGIN:DAYLIGHT
TZNAME:EDT
DTSTART:20240310T020000
TZOFFSETFROM:-0500
TZOFFSETTO:-0400
RDATE:20250309T020000
END:DAYLIGHT
END:VTIMEZONE
BEGIN:VEVENT
UID:9e41512b-1687-43d3-8e15-d6c33eac660d
DTSTAMP:20260424T124521Z
DESCRIPTION:Join us for a virtual tour of  Passaic County Community College
  CAT - Culinary Arts Vocational Certificate Program. Find out more details
  about the program below. \n\n- Hands-on training program that prepares st
 udents in the neurodivergent population aged 18 to 24.\n\n- This certifica
 te program provides students with the job readiness skills in the food/hos
 pitality industry. \n\n- Program workshops focus on job preparation. Topic
 s covered include: Culinary Arts Techniques\, Interview Prep\, Stress Mana
 gement\, Advocacy Skills\, Mock interviews\, Resume Development\, etc.\n\n
 - Contact: Ikwilliams@pccc.edu\, (973) 684-5801 - Passaic County Community
  College Wanaque Campus 500 Union Ave Haskell NJ 07420
DTSTART;TZID=America/New_York:20240516T180000
DTEND;TZID=America/New_York:20240516T190000
LOCATION:https://us06web.zoom.us/meeting/register/tZEpd-qsrD8sGteSYNemAuj91
 mhO0iTNLa40#/registration
SUMMARY:Tour with Us! Virtual Tour of Passaic County Community College CAT 
 - Culinary Arts Vocational Certificate Program
END:VEVENT
END:VCALENDAR
