BEGIN:VCALENDAR
VERSION:2.0
PRODID:-//www.thearcfamilyinstitute.org//NONSGML kigkonsult.se iCalcreator 
 2.30.10//
CALSCALE:GREGORIAN
METHOD:PUBLISH
UID:c75c0fb0-c966-45b4-a35b-41d0b43caa9d
X-WR-CALDESC:The ACCESS Program is a 15-week pre-college workforce transiti
 onal program based on a differential learning structure. The courses will 
 teach Fundamental Life Skills/Student Success\, Work Readiness\, and Compu
 ter Literacy.
X-WR-RELCALID:b2fcd12435c4a614a6473a98b4987fe1
X-WR-TIMEZONE:America/New_York
BEGIN:VTIMEZONE
TZID:America/New_York
BEGIN:STANDARD
TZNAME:EST
DTSTART:20231105T020000
TZOFFSETFROM:-0400
TZOFFSETTO:-0500
RDATE:20241103T020000
RDATE:20251102T020000
END:STANDARD
BEGIN:DAYLIGHT
TZNAME:EDT
DTSTART:20240310T020000
TZOFFSETFROM:-0500
TZOFFSETTO:-0400
RDATE:20250309T020000
END:DAYLIGHT
END:VTIMEZONE
BEGIN:VEVENT
UID:4fe16bde-1a64-4824-b372-d7c9f3badc46
DTSTAMP:20260424T124359Z
DESCRIPTION:The ACCESS Program is a 15-week pre-college workforce transitio
 nal program based on a differential learning structure. The courses will t
 each Fundamental Life Skills/Student Success\, Work Readiness\, and Comput
 er Literacy.
DTSTART;TZID=America/New_York:20240514T180000
DTEND;TZID=America/New_York:20240514T190000
LOCATION:https://us06web.zoom.us/meeting/register/tZ0ucO6srD8iHdC9HBGzsic8Z
 m5DsjL3HibH#/registration
SUMMARY:Tour With Us! - Virtual Tour of Access Program - Hudson County Comm
 unity College
END:VEVENT
END:VCALENDAR
