BEGIN:VCALENDAR
VERSION:2.0
PRODID:-//www.thearcfamilyinstitute.org//NONSGML kigkonsult.se iCalcreator 
 2.30.10//
CALSCALE:GREGORIAN
METHOD:PUBLISH
UID:cc57be0f-c668-4667-b14d-d7089c94d4ee
X-WR-CALDESC:Join us for a virtual tour of Center for Adult Transition at B
 ergen County Community College! https://bergen.edu/center-for-adult-transi
 tion/
X-WR-RELCALID:f754879ab21c04d4fae759a853f9b4c8
X-WR-TIMEZONE:America/New_York
BEGIN:VTIMEZONE
TZID:America/New_York
BEGIN:STANDARD
TZNAME:EST
DTSTART:20231105T020000
TZOFFSETFROM:-0400
TZOFFSETTO:-0500
RDATE:20241103T020000
END:STANDARD
BEGIN:DAYLIGHT
TZNAME:EDT
DTSTART:20240310T020000
TZOFFSETFROM:-0500
TZOFFSETTO:-0400
RDATE:20250309T020000
END:DAYLIGHT
END:VTIMEZONE
BEGIN:VEVENT
UID:f227b8f1-49b2-44a4-b188-4133a199de11
DTSTAMP:20260424T140138Z
DESCRIPTION:Join us for a virtual tour of Center for Adult Transition at Be
 rgen County Community College! https://bergen.edu/center-for-adult-transit
 ion/
DTSTART;TZID=America/New_York:20240425T180000
DTEND;TZID=America/New_York:20240425T190000
LOCATION:https://us06web.zoom.us/meeting/register/tZEuf-yvpjkqHdT1okwpMc2oU
 YPRT0mdEc5j
SUMMARY:Tour With Us! - Virtual Tour of Center for Adult Transition at Berg
 en County Community College
END:VEVENT
END:VCALENDAR
