BEGIN:VCALENDAR
VERSION:2.0
PRODID:-//www.thearcfamilyinstitute.org//NONSGML kigkonsult.se iCalcreator 
 2.30.10//
CALSCALE:GREGORIAN
METHOD:PUBLISH
UID:71c7d1ea-ca38-42a3-89d4-001a7282edfa
X-WR-CALDESC:Join us for a virtual tour of the LACE (Learning At College Ex
 perience) Program at Sussex County Community College. https://www.sussex.e
 du/community/lace-learning-at-college-experience/
X-WR-RELCALID:9d064216ca6b8ad01b1815f79b934525
X-WR-TIMEZONE:America/New_York
BEGIN:VTIMEZONE
TZID:America/New_York
BEGIN:STANDARD
TZNAME:EST
DTSTART:20231105T020000
TZOFFSETFROM:-0400
TZOFFSETTO:-0500
RDATE:20241103T020000
END:STANDARD
BEGIN:DAYLIGHT
TZNAME:EDT
DTSTART:20240310T020000
TZOFFSETFROM:-0500
TZOFFSETTO:-0400
RDATE:20250309T020000
END:DAYLIGHT
END:VTIMEZONE
BEGIN:VEVENT
UID:b95a1a11-b41a-41e1-be46-a74768e11414
DTSTAMP:20260424T135949Z
DESCRIPTION:Join us for a virtual tour of the LACE (Learning At College Exp
 erience) Program at Sussex County Community College. https://www.sussex.ed
 u/community/lace-learning-at-college-experience/
DTSTART;TZID=America/New_York:20240416T130000
DTEND;TZID=America/New_York:20240416T140000
LOCATION:https://us06web.zoom.us/meeting/register/tZAuduuurzksE9FzgvtUFbDAy
 hrR3y-lfvDV
SUMMARY:Tour with Us! - LACE Program at Sussex County Community College
END:VEVENT
END:VCALENDAR
