BEGIN:VCALENDAR
VERSION:2.0
PRODID:-//www.thearcfamilyinstitute.org//NONSGML kigkonsult.se iCalcreator 
 2.30.10//
CALSCALE:GREGORIAN
METHOD:PUBLISH
UID:1730975a-ec53-4ae5-aa38-8673e324bfca
X-WR-CALDESC:This presentation will offer an overview of what a family need
 s to do when their student turns 18.
X-WR-RELCALID:4d444ddbc2f692ea1f02e7f0bf226826
X-WR-TIMEZONE:America/New_York
BEGIN:VTIMEZONE
TZID:America/New_York
BEGIN:STANDARD
TZNAME:EST
DTSTART:20231105T020000
TZOFFSETFROM:-0400
TZOFFSETTO:-0500
RDATE:20241103T020000
END:STANDARD
BEGIN:DAYLIGHT
TZNAME:EDT
DTSTART:20240310T020000
TZOFFSETFROM:-0500
TZOFFSETTO:-0400
RDATE:20250309T020000
END:DAYLIGHT
END:VTIMEZONE
BEGIN:VEVENT
UID:3a6c8efc-02ae-4452-9941-34157bbce9c2
DTSTAMP:20260424T152712Z
DESCRIPTION:This presentation will offer an overview of what a family needs
  to do when their student turns 18.
DTSTART;TZID=America/New_York:20240319T180000
DTEND;TZID=America/New_York:20240319T190000
LOCATION:https://us06web.zoom.us/meeting/register/tZ0pcuqspjstH9E_WugRk_V0o
 NL78NY8q_gi#/registration
SUMMARY:My Student Just Turned 18- What Do I Need to Do?!
END:VEVENT
END:VCALENDAR
