BEGIN:VCALENDAR
VERSION:2.0
PRODID:-//www.thearcfamilyinstitute.org//NONSGML kigkonsult.se iCalcreator 
 2.30.10//
CALSCALE:GREGORIAN
METHOD:PUBLISH
UID:36405a7f-bcc3-4661-8317-9dd453c02fc5
X-WR-CALDESC:Join us for a virtual tour of Transition and Career Studies at
  Georgian Court University. https://georgian.edu/transition-and-career-stu
 dies/
X-WR-RELCALID:ebc7bb18aa9ad37248dfbf828a5517eb
X-WR-TIMEZONE:America/New_York
BEGIN:VTIMEZONE
TZID:America/New_York
BEGIN:STANDARD
TZNAME:EST
DTSTART:20231105T020000
TZOFFSETFROM:-0400
TZOFFSETTO:-0500
RDATE:20241103T020000
END:STANDARD
BEGIN:DAYLIGHT
TZNAME:EDT
DTSTART:20240310T020000
TZOFFSETFROM:-0500
TZOFFSETTO:-0400
RDATE:20250309T020000
END:DAYLIGHT
END:VTIMEZONE
BEGIN:VEVENT
UID:8e19207c-ff6d-4679-a58b-353828d36a78
DTSTAMP:20260424T153305Z
DESCRIPTION:Join us for a virtual tour of Transition and Career Studies at 
 Georgian Court University. https://georgian.edu/transition-and-career-stud
 ies/
DTSTART;TZID=America/New_York:20240314T180000
DTEND;TZID=America/New_York:20240314T190000
LOCATION:https://us06web.zoom.us/meeting/register/tZ0uduyvqjgtE9PIvFM_VStwW
 qHf3Bm55C9h#/registration
SUMMARY:Tour with Us! - Georgian Court University: Transition and Career St
 udies
END:VEVENT
END:VCALENDAR
