BEGIN:VCALENDAR
VERSION:2.0
PRODID:-//www.thearcfamilyinstitute.org//NONSGML kigkonsult.se iCalcreator 
 2.30.10//
CALSCALE:GREGORIAN
METHOD:PUBLISH
UID:c0b3348e-656a-4bcb-a2be-d89e8e2b0bce
X-WR-CALDESC:Presented by Hinkle Prior & Fischer
X-WR-RELCALID:5724f44412b9563d5efddd68e4707762
X-WR-TIMEZONE:America/New_York
BEGIN:VTIMEZONE
TZID:America/New_York
BEGIN:STANDARD
TZNAME:EST
DTSTART:20231105T020000
TZOFFSETFROM:-0400
TZOFFSETTO:-0500
RDATE:20241103T020000
END:STANDARD
BEGIN:DAYLIGHT
TZNAME:EDT
DTSTART:20240310T020000
TZOFFSETFROM:-0500
TZOFFSETTO:-0400
RDATE:20250309T020000
END:DAYLIGHT
END:VTIMEZONE
BEGIN:VEVENT
UID:6a14c699-3234-4303-9ec9-0bf7baa758a5
DTSTAMP:20260424T153330Z
DESCRIPTION:Presented by Hinkle Prior & Fischer
DTSTART;TZID=America/New_York:20240312T180000
DTEND;TZID=America/New_York:20240312T193000
LOCATION:https://attendee.gotowebinar.com/register/413760955930241885
SUMMARY:Guardianship vs. Power of Attorney: Which One is Right for Your Lov
 ed One with IDD
END:VEVENT
END:VCALENDAR
