BEGIN:VCALENDAR
VERSION:2.0
PRODID:-//www.thearcfamilyinstitute.org//NONSGML kigkonsult.se iCalcreator 
 2.30.10//
CALSCALE:GREGORIAN
METHOD:PUBLISH
UID:ff7b27d5-2cd1-4f92-808f-ee3134c40862
X-WR-CALDESC:Join us for a Virtual Tour of Mercer County Community College'
 s CAT (Center for Adult Transition) program. https://www.mccc.edu/student_
 services_needs_cat.shtml
X-WR-RELCALID:e1e61e23521e377b1d05337d9cf797e9
X-WR-TIMEZONE:America/New_York
BEGIN:VTIMEZONE
TZID:America/New_York
BEGIN:STANDARD
TZNAME:EST
DTSTART:20231105T020000
TZOFFSETFROM:-0400
TZOFFSETTO:-0500
RDATE:20241103T020000
END:STANDARD
BEGIN:DAYLIGHT
TZNAME:EDT
DTSTART:20230312T020000
TZOFFSETFROM:-0500
TZOFFSETTO:-0400
RDATE:20240310T020000
RDATE:20250309T020000
END:DAYLIGHT
END:VTIMEZONE
BEGIN:VEVENT
UID:2fa0272e-eab3-4162-b184-ac292d2103ed
DTSTAMP:20260424T154527Z
DESCRIPTION:Join us for a Virtual Tour of Mercer County Community College's
  CAT (Center for Adult Transition) program. https://www.mccc.edu/student_s
 ervices_needs_cat.shtml
DTSTART;TZID=America/New_York:20240306T180000
DTEND;TZID=America/New_York:20240306T190000
LOCATION:https://us06web.zoom.us/meeting/register/tZYqceCvpzwsG9zXQyWUNhwOt
 -rGWmPB6vl2
SUMMARY:Tour with Us! - Virtual Tour of Mercer County Community College's C
 AT program
END:VEVENT
END:VCALENDAR
