BEGIN:VCALENDAR
VERSION:2.0
PRODID:-//www.thearcfamilyinstitute.org//NONSGML kigkonsult.se iCalcreator 
 2.30.10//
CALSCALE:GREGORIAN
METHOD:PUBLISH
UID:3d50c48c-b67a-4580-b370-c18d01d3a0f8
X-WR-CALDESC:This presentation will offer an overview of the different stat
 e services that are available here in New Jersey for Children and Adults w
 ith Intellectual and Developmental Disabilities\n Under 21\n Over 21\n 
 Transition from children’s system of care to division of developmental dis
 abilities
X-WR-RELCALID:26139c6a43d19d82edc580b815a30876
X-WR-TIMEZONE:America/New_York
BEGIN:VTIMEZONE
TZID:America/New_York
BEGIN:STANDARD
TZNAME:EST
DTSTART:20231105T020000
TZOFFSETFROM:-0400
TZOFFSETTO:-0500
RDATE:20241103T020000
END:STANDARD
BEGIN:DAYLIGHT
TZNAME:EDT
DTSTART:20230312T020000
TZOFFSETFROM:-0500
TZOFFSETTO:-0400
RDATE:20240310T020000
RDATE:20250309T020000
END:DAYLIGHT
END:VTIMEZONE
BEGIN:VEVENT
UID:cf19e335-3e0a-4af6-b91b-4be8bb9a6ce0
DTSTAMP:20260424T165617Z
DESCRIPTION:This presentation will offer an overview of the different state
  services that are available here in New Jersey for Children and Adults wi
 th Intellectual and Developmental Disabilities\n Under 21\n Over 21\n T
 ransition from children’s system of care to division of developmental disa
 bilities
DTSTART;TZID=America/New_York:20240227T180000
DTEND;TZID=America/New_York:20240227T190000
LOCATION:https://us06web.zoom.us/meeting/register/tZYkcO2sqz0tHdY0WoSF2i-zA
 0KwxqWA7KGn#/registration
SUMMARY:Navigating the System: What Parents Need to Know
END:VEVENT
END:VCALENDAR
