BEGIN:VCALENDAR
VERSION:2.0
PRODID:-//www.thearcfamilyinstitute.org//NONSGML kigkonsult.se iCalcreator 
 2.30.10//
CALSCALE:GREGORIAN
METHOD:PUBLISH
UID:d2f3b0b5-83d1-4e4b-a1de-8e3083cceef7
X-WR-CALDESC:Join us for a virtual tour of The Achievement Center at Rarita
 n Valley Community College.
X-WR-RELCALID:999b50feb265d7638bcec27150f61374
X-WR-TIMEZONE:America/New_York
BEGIN:VTIMEZONE
TZID:America/New_York
BEGIN:STANDARD
TZNAME:EST
DTSTART:20231105T020000
TZOFFSETFROM:-0400
TZOFFSETTO:-0500
RDATE:20241103T020000
END:STANDARD
BEGIN:DAYLIGHT
TZNAME:EDT
DTSTART:20230312T020000
TZOFFSETFROM:-0500
TZOFFSETTO:-0400
RDATE:20240310T020000
RDATE:20250309T020000
END:DAYLIGHT
END:VTIMEZONE
BEGIN:VEVENT
UID:96f0bc60-25f7-4ef0-8560-ac4390f550bc
DTSTAMP:20260424T165930Z
DESCRIPTION:Join us for a virtual tour of The Achievement Center at Raritan
  Valley Community College.
DTSTART;TZID=America/New_York:20240208T180000
DTEND;TZID=America/New_York:20240208T190000
LOCATION:https://us06web.zoom.us/meeting/register/tZUvcOuhqz4rH9Kk2B2nrE0ge
 p4IQTb2hTDX
SUMMARY:Tour With Us! - Virtual Tour with Bob Hulit from The Achievement Ce
 nter
END:VEVENT
END:VCALENDAR
