BEGIN:VCALENDAR
VERSION:2.0
PRODID:-//www.thearcfamilyinstitute.org//NONSGML kigkonsult.se iCalcreator 
 2.30.10//
CALSCALE:GREGORIAN
METHOD:PUBLISH
UID:90296dda-39a4-441b-8aee-086a2dea1719
X-WR-CALDESC:College can be a great option for students with intellectual a
 nd developmental disabilities (I/DD). A growing number of programs offer v
 aried opportunities to learn academic\, career and independent living skil
 ls as they prepare for employment. Join us as we discuss different program
 s offered in New Jersey and possible ways to pay for college. Additionally
 \, we will discuss how to write IEP goals for post-secondary options when 
 working with the Child Study Team.
X-WR-RELCALID:82dd9600cf2891075f558f52844517b0
X-WR-TIMEZONE:America/New_York
BEGIN:VTIMEZONE
TZID:America/New_York
BEGIN:STANDARD
TZNAME:EST
DTSTART:20231105T020000
TZOFFSETFROM:-0400
TZOFFSETTO:-0500
RDATE:20241103T020000
END:STANDARD
BEGIN:DAYLIGHT
TZNAME:EDT
DTSTART:20230312T020000
TZOFFSETFROM:-0500
TZOFFSETTO:-0400
RDATE:20240310T020000
RDATE:20250309T020000
END:DAYLIGHT
END:VTIMEZONE
BEGIN:VEVENT
UID:9bcb318d-3453-4671-a0d3-940d43d97590
DTSTAMP:20260424T175359Z
DESCRIPTION:College can be a great option for students with intellectual an
 d developmental disabilities (I/DD). A growing number of programs offer va
 ried opportunities to learn academic\, career and independent living skill
 s as they prepare for employment. Join us as we discuss different programs
  offered in New Jersey and possible ways to pay for college. Additionally\
 , we will discuss how to write IEP goals for post-secondary options when w
 orking with the Child Study Team.
DTSTART;TZID=America/New_York:20240131T180000
DTEND;TZID=America/New_York:20240131T190000
LOCATION:https://us06web.zoom.us/meeting/register/tZAqceCsrzMjHNSZKDtRN0gPO
 chZrIqSwsiK#/registration
SUMMARY:College Options for Students with IDD
END:VEVENT
END:VCALENDAR
