BEGIN:VCALENDAR
VERSION:2.0
PRODID:-//www.thearcfamilyinstitute.org//NONSGML kigkonsult.se iCalcreator 
 2.30.10//
CALSCALE:GREGORIAN
METHOD:PUBLISH
UID:91eb4142-0648-4735-a11a-d2850081c1ec
X-WR-CALDESC:Are you planning to collect your Social Security benefits and 
 wondering how this will affect your adult child with disabilities?\n\nQues
 tions and concerns often arise when parents are planning to collect their 
 own Social Security and they have a son/daughter with disabilities who rec
 eives SSI and Medicaid. This presentation will discuss how to navigate tho
 se changes that may affect your adult child as you consider retirement.
X-WR-RELCALID:5af0bdef7822ae47bd622aa9358762bc
X-WR-TIMEZONE:America/New_York
BEGIN:VTIMEZONE
TZID:America/New_York
BEGIN:STANDARD
TZNAME:EST
DTSTART:20231105T020000
TZOFFSETFROM:-0400
TZOFFSETTO:-0500
RDATE:20241103T020000
END:STANDARD
BEGIN:DAYLIGHT
TZNAME:EDT
DTSTART:20230312T020000
TZOFFSETFROM:-0500
TZOFFSETTO:-0400
RDATE:20240310T020000
RDATE:20250309T020000
END:DAYLIGHT
END:VTIMEZONE
BEGIN:VEVENT
UID:adc48f5c-8bee-4dc6-94c8-84779c62d45c
DTSTAMP:20260424T174432Z
DESCRIPTION:Are you planning to collect your Social Security benefits and w
 ondering how this will affect your adult child with disabilities?\n\nQuest
 ions and concerns often arise when parents are planning to collect their o
 wn Social Security and they have a son/daughter with disabilities who rece
 ives SSI and Medicaid. This presentation will discuss how to navigate thos
 e changes that may affect your adult child as you consider retirement.
DTSTART;TZID=America/New_York:20240130T130000
DTEND;TZID=America/New_York:20240130T140000
LOCATION:https://attendee.gotowebinar.com/register/709486702426359126
SUMMARY:When Parents Collect Social Security: How Parents' Social Security 
 Benefits Impact Adult Children with IDD
END:VEVENT
END:VCALENDAR
