BEGIN:VCALENDAR
VERSION:2.0
PRODID:-//www.thearcfamilyinstitute.org//NONSGML kigkonsult.se iCalcreator 
 2.30.10//
CALSCALE:GREGORIAN
METHOD:PUBLISH
UID:b211a9e7-2e56-4383-810a-1c6e0d836b48
X-WR-CALDESC:Is college a promising path for students with intellectual and
  developmental disabilities? The Arc of New Jersey Family Institute will s
 peak with us to uncover diverse learning opportunities. \n\nKey highlights
  that will be explored in this workshop \n* Specialized programs designed 
 to equip students for successful employment.\n* Insights into various fund
 ing options to make college accessible.\n* Strategies for crafting effecti
 ve IEP goals that foster a seamless transition into higher education.\n\nE
 mpower yourself with knowledge by taking advantage of this opportunity to 
 answer your college-related questions.
X-WR-RELCALID:dbc0570c39ef7e3e77ea1eb64395e49d
X-WR-TIMEZONE:America/New_York
BEGIN:VTIMEZONE
TZID:America/New_York
BEGIN:STANDARD
TZNAME:EST
DTSTART:20231105T020000
TZOFFSETFROM:-0400
TZOFFSETTO:-0500
RDATE:20241103T020000
END:STANDARD
BEGIN:DAYLIGHT
TZNAME:EDT
DTSTART:20230312T020000
TZOFFSETFROM:-0500
TZOFFSETTO:-0400
RDATE:20240310T020000
RDATE:20250309T020000
END:DAYLIGHT
END:VTIMEZONE
BEGIN:VEVENT
UID:d66c9b04-c06a-4529-bc19-5a9f0a86a141
DTSTAMP:20260424T185952Z
DESCRIPTION:Is college a promising path for students with intellectual and 
 developmental disabilities? The Arc of New Jersey Family Institute will sp
 eak with us to uncover diverse learning opportunities. \n\nKey highlights 
 that will be explored in this workshop \n* Specialized programs designed t
 o equip students for successful employment.\n* Insights into various fundi
 ng options to make college accessible.\n* Strategies for crafting effectiv
 e IEP goals that foster a seamless transition into higher education.\n\nEm
 power yourself with knowledge by taking advantage of this opportunity to a
 nswer your college-related questions.
DTSTART;TZID=America/New_York:20231205T193000
DTEND;TZID=America/New_York:20231205T203000
LOCATION:https://tinyurl.com/DiverseCollegePathways
SUMMARY:Building Bridges: College Pathways for Diverse Learners
END:VEVENT
END:VCALENDAR
