BEGIN:VCALENDAR
VERSION:2.0
PRODID:-//www.thearcfamilyinstitute.org//NONSGML kigkonsult.se iCalcreator 
 2.30.10//
CALSCALE:GREGORIAN
METHOD:PUBLISH
UID:1fd08669-be24-4c9e-aea6-b5adc20ddfe6
X-WR-CALDESC:David is the Assistant Division Director of the Office of Comm
 unity Services at the Division of Mental Health and Addiction Services (DM
 HAS).\n\nJoin us as we chat about what DMHAS offers and how David can assi
 st a family when needed.
X-WR-RELCALID:2b2ee30f0b2386bcb451abe54246fdab
X-WR-TIMEZONE:America/New_York
BEGIN:VTIMEZONE
TZID:America/New_York
BEGIN:STANDARD
TZNAME:EST
DTSTART:20231105T020000
TZOFFSETFROM:-0400
TZOFFSETTO:-0500
RDATE:20241103T020000
END:STANDARD
BEGIN:DAYLIGHT
TZNAME:EDT
DTSTART:20230312T020000
TZOFFSETFROM:-0500
TZOFFSETTO:-0400
RDATE:20240310T020000
RDATE:20250309T020000
END:DAYLIGHT
END:VTIMEZONE
BEGIN:VEVENT
UID:b5533dcc-6e9e-4052-9048-ab1c291645ec
DTSTAMP:20260424T202725Z
DESCRIPTION:David is the Assistant Division Director of the Office of Commu
 nity Services at the Division of Mental Health and Addiction Services (DMH
 AS).\n\nJoin us as we chat about what DMHAS offers and how David can assis
 t a family when needed.
DTSTART;TZID=America/New_York:20231108T130000
DTEND;TZID=America/New_York:20231108T140000
LOCATION:https://us06web.zoom.us/meeting/register/tZ0of-ytpzooHNArrluS96VQE
 pGsdrmdlmmG
SUMMARY:Fireside Chat with David Helfand
END:VEVENT
END:VCALENDAR
