BEGIN:VCALENDAR
VERSION:2.0
PRODID:-//www.thearcfamilyinstitute.org//NONSGML kigkonsult.se iCalcreator 
 2.30.10//
CALSCALE:GREGORIAN
METHOD:PUBLISH
UID:cee4f3c0-51ed-4e10-9e08-893918662257
X-WR-CALDESC:Join us as Dan McManmon President of the College Internship Pr
 ogram (CIP) talks with us about CIP. The College Internship Program (CIP) 
 is a private young adult transition program for individuals 18-26 with aut
 ism\, ADHD\, and other learning differences offering comprehensive and spe
 cialized services. \n\nCIP’s programs uniquely address the needs of young 
 adults with learning differences by focusing on the generalization of skil
 ls while living within a community of peers in a supported apartment livin
 g environment. Each student’s unique needs are met individually as they tr
 ansition to independent living\, college\, and employment. They are a nati
 onal organization providing comprehensive transition programs to help youn
 g adults with autism and learning differences find success in college\, em
 ployment\, and independent living.
X-WR-RELCALID:68cf51609961b00cb26600fc8106ce97
X-WR-TIMEZONE:America/New_York
BEGIN:VTIMEZONE
TZID:America/New_York
BEGIN:STANDARD
TZNAME:EST
DTSTART:20221106T020000
TZOFFSETFROM:-0400
TZOFFSETTO:-0500
RDATE:20231105T020000
END:STANDARD
BEGIN:DAYLIGHT
TZNAME:EDT
DTSTART:20230312T020000
TZOFFSETFROM:-0500
TZOFFSETTO:-0400
RDATE:20240310T020000
END:DAYLIGHT
END:VTIMEZONE
BEGIN:VEVENT
UID:545885d6-b484-4249-ad15-203e64fa199d
DTSTAMP:20260424T024720Z
DESCRIPTION:Join us as Dan McManmon President of the College Internship Pro
 gram (CIP) talks with us about CIP. The College Internship Program (CIP) i
 s a private young adult transition program for individuals 18-26 with auti
 sm\, ADHD\, and other learning differences offering comprehensive and spec
 ialized services. \n\nCIP’s programs uniquely address the needs of young a
 dults with learning differences by focusing on the generalization of skill
 s while living within a community of peers in a supported apartment living
  environment. Each student’s unique needs are met individually as they tra
 nsition to independent living\, college\, and employment. They are a natio
 nal organization providing comprehensive transition programs to help young
  adults with autism and learning differences find success in college\, emp
 loyment\, and independent living.
DTSTART;TZID=America/New_York:20230321T180000
DTEND;TZID=America/New_York:20230321T190000
LOCATION:https://attendee.gotowebinar.com/register/4671013895418562654
SUMMARY:An Overview of The College Internship Program (CIP)
END:VEVENT
END:VCALENDAR
