BEGIN:VCALENDAR
VERSION:2.0
PRODID:-//www.thearcfamilyinstitute.org//NONSGML kigkonsult.se iCalcreator 
 2.30.10//
CALSCALE:GREGORIAN
METHOD:PUBLISH
UID:af9b3ff1-3c56-46c8-8212-ea0a71101dd5
X-WR-CALDESC:We are pleased to announce a webinar titled\, 'Your Right to A
 ppeal a Medicaid Termination' with speakers Michael Brower and Kelly McGui
 re from Disability Rights New Jersey (DRNJ)\n\nThe DRNJ attorneys will sha
 re essential strategies to protect your Medicaid coverage in preparation f
 or the largest review of Medicaid eligibility in the state’s history. For 
 the first time since March 2020\, the NJ Medicaid program (also known as D
 MAHS or NJFamilyCare) will begin terminating benefits for people who it th
 inks do not meet the eligibility standards. While NJ Medicaid reviewed eli
 gibility during the pandemic\, it did not terminate anyone’s benefits beca
 use of the federal COVID-19 public health emergency. Starting in April 202
 3\, NJ Medicaid will resume mailing termination notices for people it find
 s ineligible for continued coverage.\n\nIf you get a termination notice an
 d disagree\, you must act fast to preserve your rights! This webinar will 
 give you the information you need to:\n- Update your address with Medicaid
 \n- Recognize a termination notice\n- Request a Fair Hearing\n- Keep your 
 benefits during an appeal\n- Find legal help
X-WR-RELCALID:c115811301649d8cfa8508c77787df18
X-WR-TIMEZONE:America/New_York
BEGIN:VTIMEZONE
TZID:America/New_York
BEGIN:STANDARD
TZNAME:EST
DTSTART:20221106T020000
TZOFFSETFROM:-0400
TZOFFSETTO:-0500
RDATE:20231105T020000
END:STANDARD
BEGIN:DAYLIGHT
TZNAME:EDT
DTSTART:20230312T020000
TZOFFSETFROM:-0500
TZOFFSETTO:-0400
RDATE:20240310T020000
END:DAYLIGHT
END:VTIMEZONE
BEGIN:VEVENT
UID:a0a4f626-ae1c-4b78-b826-b159675c679f
DTSTAMP:20260424T025104Z
DESCRIPTION:We are pleased to announce a webinar titled\, 'Your Right to Ap
 peal a Medicaid Termination' with speakers Michael Brower and Kelly McGuir
 e from Disability Rights New Jersey (DRNJ)\n\nThe DRNJ attorneys will shar
 e essential strategies to protect your Medicaid coverage in preparation fo
 r the largest review of Medicaid eligibility in the state’s history. For t
 he first time since March 2020\, the NJ Medicaid program (also known as DM
 AHS or NJFamilyCare) will begin terminating benefits for people who it thi
 nks do not meet the eligibility standards. While NJ Medicaid reviewed elig
 ibility during the pandemic\, it did not terminate anyone’s benefits becau
 se of the federal COVID-19 public health emergency. Starting in April 2023
 \, NJ Medicaid will resume mailing termination notices for people it finds
  ineligible for continued coverage.\n\nIf you get a termination notice and
  disagree\, you must act fast to preserve your rights! This webinar will g
 ive you the information you need to:\n- Update your address with Medicaid
 \n- Recognize a termination notice\n- Request a Fair Hearing\n- Keep your 
 benefits during an appeal\n- Find legal help
DTSTART;TZID=America/New_York:20230320T120000
DTEND;TZID=America/New_York:20230320T130000
LOCATION:https://attendee.gotowebinar.com/register/740366479168911706
SUMMARY:Your Right to Appeal a Medicaid Termination
END:VEVENT
END:VCALENDAR
