BEGIN:VCALENDAR
VERSION:2.0
PRODID:-//www.thearcfamilyinstitute.org//NONSGML kigkonsult.se iCalcreator 
 2.30.10//
CALSCALE:GREGORIAN
METHOD:PUBLISH
UID:289e0d22-26cc-49c2-9374-dd118590a909
X-WR-CALDESC:Often times\, new school districts will reconsider a student’s
  out-of-district placement in favor of local public programs. Parents need
  to know their child’s rights when services change\, are cut back\, limite
 d or otherwise modified. In this workshop\, parents will learn how placeme
 nt decisions are made\, what the important timelines are in the special ed
 ucation system\, and the “Stay Put” provision of the law.
X-WR-RELCALID:da2119e8cc3345135da5f018333e25fb
X-WR-TIMEZONE:America/New_York
BEGIN:VTIMEZONE
TZID:America/New_York
BEGIN:STANDARD
TZNAME:EST
DTSTART:20221106T020000
TZOFFSETFROM:-0400
TZOFFSETTO:-0500
RDATE:20231105T020000
END:STANDARD
BEGIN:DAYLIGHT
TZNAME:EDT
DTSTART:20220313T020000
TZOFFSETFROM:-0500
TZOFFSETTO:-0400
RDATE:20230312T020000
RDATE:20240310T020000
END:DAYLIGHT
END:VTIMEZONE
BEGIN:VEVENT
UID:59a40789-390a-40b2-b218-e1a8429b4944
DTSTAMP:20260424T025103Z
DESCRIPTION:Often times\, new school districts will reconsider a student’s 
 out-of-district placement in favor of local public programs. Parents need 
 to know their child’s rights when services change\, are cut back\, limited
  or otherwise modified. In this workshop\, parents will learn how placemen
 t decisions are made\, what the important timelines are in the special edu
 cation system\, and the “Stay Put” provision of the law.
DTSTART;TZID=America/New_York:20230307T180000
DTEND;TZID=America/New_York:20230307T190000
LOCATION:https://r20.rs6.net/tn.jsp?f=001Si4Q1M4p04tXzAy4WXSbjiwXx-dc0siKpj
 qNJzJnXTqAvZj6HBDtM6wiZoAeqCvK73uAJmW4VZFolHn5Y0X9CgU5MeBylwAaqaZBFsUVKPgp
 cVUp1PMa8YiRf66cJ_IUHmS5QauPFndGjEAndWm3dBSpGSRI-CORjdOwOXJC3p_rMQTOP3Qmco
 xjIwkjuZNoEsQbxhnGR9Q=&c=Aataqq3FaTmVAjL0l4krOt929E3LfN-H5MEyOEcJgHrktYhfm
 I6LYw==&ch=uUrID2CPFA3MF8kzZhzsU288qHtP1ERAV-3gRG9q182JhFmzeHIM6Q==
SUMMARY:Out-of-District Placements Presented by Hinkle Prior & Fischer
END:VEVENT
END:VCALENDAR
