BEGIN:VCALENDAR
VERSION:2.0
PRODID:-//www.thearcfamilyinstitute.org//NONSGML kigkonsult.se iCalcreator 
 2.30.10//
CALSCALE:GREGORIAN
METHOD:PUBLISH
UID:7147b22e-05b8-4246-8006-2294c2718592
X-WR-CALDESC:Maximizing services requires an individual to be properly asse
 ssed and have a tier assignment and budget that allows appropriate support
 s to be provided. Attendees will learn about the importance of accurately 
 completing the New Jersey Comprehensive Assessment Tool (NJCAT). During th
 is workshop\, the presenter will provide guidance and an understanding of 
 how to interpret the different sections and questions on the NJCAT. Real l
 ife examples will be shared. The process of appealing an inaccurate tier a
 ssignment will also be discussed.\n\n
X-WR-RELCALID:9125f7ca08ad5a1aa8fa5376a0e5dfb3
X-WR-TIMEZONE:America/New_York
BEGIN:VTIMEZONE
TZID:America/New_York
BEGIN:STANDARD
TZNAME:EST
DTSTART:20221106T020000
TZOFFSETFROM:-0400
TZOFFSETTO:-0500
RDATE:20231105T020000
END:STANDARD
BEGIN:DAYLIGHT
TZNAME:EDT
DTSTART:20220313T020000
TZOFFSETFROM:-0500
TZOFFSETTO:-0400
RDATE:20230312T020000
RDATE:20240310T020000
END:DAYLIGHT
END:VTIMEZONE
BEGIN:VEVENT
UID:fe56acad-c75d-4aac-93b2-f389af3f9e76
DTSTAMP:20260424T022737Z
DESCRIPTION:Maximizing services requires an individual to be properly asses
 sed and have a tier assignment and budget that allows appropriate supports
  to be provided. Attendees will learn about the importance of accurately c
 ompleting the New Jersey Comprehensive Assessment Tool (NJCAT). During thi
 s workshop\, the presenter will provide guidance and an understanding of h
 ow to interpret the different sections and questions on the NJCAT. Real li
 fe examples will be shared. The process of appealing an inaccurate tier as
 signment will also be discussed.\n\n
DTSTART;TZID=America/New_York:20230222T180000
DTEND;TZID=America/New_York:20230222T190000
LOCATION:https://attendee.gotowebinar.com/register/7294058311870244704
SUMMARY:The DDD NJCAT – Critical for Maximizing Supports for Your Adult Chi
 ld
END:VEVENT
END:VCALENDAR
