BEGIN:VCALENDAR
VERSION:2.0
PRODID:-//www.thearcfamilyinstitute.org//NONSGML kigkonsult.se iCalcreator 
 2.30.10//
CALSCALE:GREGORIAN
METHOD:PUBLISH
UID:4ea47e0a-7ed9-44a9-b3a4-d3b77ded674a
X-WR-CALDESC:The College Support Program (CSP) is a unit of the RCAAS that 
 supports Rutgers University students on the autism spectrum as they begin\
 , continue\, and prepare to graduate from the University. It is a comprehe
 nsive program that assists students through the provision of direct suppor
 t and collaboration with University services that address executive functi
 oning\, social competence\, academic skills\, self-care\, self-advocacy\, 
 and career preparation. \n\nThe CSP currently serves matriculated full-and
  part-time undergraduate students on the New Brunswick-Piscataway campus o
 nly.  CSP students may live in on- or off-campus housing\, or they may com
 mute from their permanent residence.\n\n\n***A zoom link will be sent to y
 ou a few days before the event.
X-WR-RELCALID:44d82f39d6205b7a283935f5b3daa014
X-WR-TIMEZONE:America/New_York
BEGIN:VTIMEZONE
TZID:America/New_York
BEGIN:STANDARD
TZNAME:EST
DTSTART:20221106T020000
TZOFFSETFROM:-0400
TZOFFSETTO:-0500
RDATE:20231105T020000
END:STANDARD
BEGIN:DAYLIGHT
TZNAME:EDT
DTSTART:20220313T020000
TZOFFSETFROM:-0500
TZOFFSETTO:-0400
RDATE:20230312T020000
RDATE:20240310T020000
END:DAYLIGHT
END:VTIMEZONE
BEGIN:VEVENT
UID:87e49268-31f5-40f1-9ea9-fdff819ab132
DTSTAMP:20260424T023325Z
DESCRIPTION:The College Support Program (CSP) is a unit of the RCAAS that s
 upports Rutgers University students on the autism spectrum as they begin\,
  continue\, and prepare to graduate from the University. It is a comprehen
 sive program that assists students through the provision of direct support
  and collaboration with University services that address executive functio
 ning\, social competence\, academic skills\, self-care\, self-advocacy\, a
 nd career preparation. \n\nThe CSP currently serves matriculated full-and 
 part-time undergraduate students on the New Brunswick-Piscataway campus on
 ly.  CSP students may live in on- or off-campus housing\, or they may comm
 ute from their permanent residence.\n\n\n***A zoom link will be sent to yo
 u a few days before the event.
DTSTART;TZID=America/New_York:20230215T180000
DTEND;TZID=America/New_York:20230215T190000
LOCATION:
SUMMARY:Virtual Information Session: The College Support Program (CSP) at R
 utgers University
END:VEVENT
END:VCALENDAR
