BEGIN:VCALENDAR
VERSION:2.0
PRODID:-//www.thearcfamilyinstitute.org//NONSGML kigkonsult.se iCalcreator 
 2.30.10//
CALSCALE:GREGORIAN
METHOD:PUBLISH
UID:a5eaf50c-9836-4bbc-9b08-73f75d7a65b8
X-WR-CALDESC:You will receive a zoom link a few days before the event.
X-WR-RELCALID:76c9f09916dfcbb63841220c6f08723b
X-WR-TIMEZONE:America/New_York
BEGIN:VTIMEZONE
TZID:America/New_York
BEGIN:STANDARD
TZNAME:EST
DTSTART:20221106T020000
TZOFFSETFROM:-0400
TZOFFSETTO:-0500
RDATE:20231105T020000
END:STANDARD
BEGIN:DAYLIGHT
TZNAME:EDT
DTSTART:20220313T020000
TZOFFSETFROM:-0500
TZOFFSETTO:-0400
RDATE:20230312T020000
RDATE:20240310T020000
END:DAYLIGHT
END:VTIMEZONE
BEGIN:VEVENT
UID:803a9c06-f696-4f3a-be08-0d476677e3c4
DTSTAMP:20260424T022833Z
DESCRIPTION:You will receive a zoom link a few days before the event.
DTSTART;TZID=America/New_York:20230208T180000
DTEND;TZID=America/New_York:20230208T190000
LOCATION:
SUMMARY:Fireside Chat with Beverly Roberts: What Should Families Know About
  Medicaid Unwinding and How to Prepare for It
END:VEVENT
END:VCALENDAR
