BEGIN:VCALENDAR
VERSION:2.0
PRODID:-//www.thearcfamilyinstitute.org//NONSGML kigkonsult.se iCalcreator 
 2.30.10//
CALSCALE:GREGORIAN
METHOD:PUBLISH
UID:5dcf527b-2c35-4dc0-a8ab-f3b2b690b22b
X-WR-CALDESC:Chat with Jerisa Maseko\, Director of The Planning For Adult L
 ife Program. Jerisa will give us an overview of the program and talk a lit
 tle about how they can help individuals with IDD plan for their future.
X-WR-RELCALID:35c096db7b003c1d14a406079be5b025
X-WR-TIMEZONE:America/New_York
BEGIN:VTIMEZONE
TZID:America/New_York
BEGIN:STANDARD
TZNAME:EST
DTSTART:20221106T020000
TZOFFSETFROM:-0400
TZOFFSETTO:-0500
RDATE:20231105T020000
END:STANDARD
BEGIN:DAYLIGHT
TZNAME:EDT
DTSTART:20220313T020000
TZOFFSETFROM:-0500
TZOFFSETTO:-0400
RDATE:20230312T020000
RDATE:20240310T020000
END:DAYLIGHT
END:VTIMEZONE
BEGIN:VEVENT
UID:cfabcd19-b6de-4ede-abe1-e68755a1304c
DTSTAMP:20260424T025026Z
DESCRIPTION:Chat with Jerisa Maseko\, Director of The Planning For Adult Li
 fe Program. Jerisa will give us an overview of the program and talk a litt
 le about how they can help individuals with IDD plan for their future.
DTSTART;TZID=America/New_York:20230112T180000
DTEND;TZID=America/New_York:20230112T190000
LOCATION:This is an online event. After you register\, you will receive the
  link to join the meeting a few days before the event.
SUMMARY:FI Fireside Chat with Jerisa Maseko from Planning For Adult Life
END:VEVENT
END:VCALENDAR
