BEGIN:VCALENDAR
VERSION:2.0
PRODID:-//www.thearcfamilyinstitute.org//NONSGML kigkonsult.se iCalcreator 
 2.30.10//
CALSCALE:GREGORIAN
METHOD:PUBLISH
UID:dcfa4495-2580-44b6-b5ea-b39d41a83cec
X-WR-CALDESC:The purpose of this workshop is to educate families who have a
  loved one with a significant disability about the importance of planning 
 for the individual’s future support. Planned Lifetime Assistance Network o
 f NJ (PLAN/NJ) will guide families in this estate planning and life-long s
 upport process. This session will address future planning issues such as i
 ndependent living supports\; estate planning\, legal and financial protect
 ions. Topics include how to implement a future life plan for people with d
 isabilities\; guardianship\, Special Needs Trusts\, home visit monitoring 
 and advocacy. Handouts will be provided to families to highlight the topic
 s of the session.
X-WR-RELCALID:bf5ba6cc62f5651115b95a5f28ff273b
X-WR-TIMEZONE:America/New_York
BEGIN:VTIMEZONE
TZID:America/New_York
BEGIN:STANDARD
TZNAME:EST
DTSTART:20221106T020000
TZOFFSETFROM:-0400
TZOFFSETTO:-0500
RDATE:20231105T020000
END:STANDARD
BEGIN:DAYLIGHT
TZNAME:EDT
DTSTART:20220313T020000
TZOFFSETFROM:-0500
TZOFFSETTO:-0400
RDATE:20230312T020000
RDATE:20240310T020000
END:DAYLIGHT
END:VTIMEZONE
BEGIN:VEVENT
UID:3ac4530d-fea5-45b9-af48-b290a051150f
DTSTAMP:20260424T025103Z
DESCRIPTION:The purpose of this workshop is to educate families who have a 
 loved one with a significant disability about the importance of planning f
 or the individual’s future support. Planned Lifetime Assistance Network of
  NJ (PLAN/NJ) will guide families in this estate planning and life-long su
 pport process. This session will address future planning issues such as in
 dependent living supports\; estate planning\, legal and financial protecti
 ons. Topics include how to implement a future life plan for people with di
 sabilities\; guardianship\, Special Needs Trusts\, home visit monitoring a
 nd advocacy. Handouts will be provided to families to highlight the topics
  of the session.
DTSTART;TZID=America/New_York:20230110T180000
DTEND;TZID=America/New_York:20230110T190000
LOCATION:https://attendee.gotowebinar.com/register/5187964679297023064
SUMMARY:Person- Centered Planning: Who Will Care For My Loved One When I Am
  Gone
END:VEVENT
END:VCALENDAR
