BEGIN:VCALENDAR
VERSION:2.0
PRODID:-//www.thearcfamilyinstitute.org//NONSGML kigkonsult.se iCalcreator 
 2.30.10//
CALSCALE:GREGORIAN
METHOD:PUBLISH
UID:8aa774fa-367e-48f2-8cd5-c67b63d068ef
X-WR-CALDESC:Join us as Bob Hulit gives us an overview of The Achievement C
 enter at Raritan Valley Community College.\n\n** You will receive a zoom l
 ink  a few days before the event.
X-WR-RELCALID:b2a461b3a78b0b65446229359d960ad5
X-WR-TIMEZONE:America/New_York
BEGIN:VTIMEZONE
TZID:America/New_York
BEGIN:STANDARD
TZNAME:EST
DTSTART:20221106T020000
TZOFFSETFROM:-0400
TZOFFSETTO:-0500
RDATE:20231105T020000
END:STANDARD
BEGIN:DAYLIGHT
TZNAME:EDT
DTSTART:20220313T020000
TZOFFSETFROM:-0500
TZOFFSETTO:-0400
RDATE:20230312T020000
RDATE:20240310T020000
END:DAYLIGHT
END:VTIMEZONE
BEGIN:VEVENT
UID:3dfb653a-b221-4186-89e1-a5b98979523a
DTSTAMP:20260424T025222Z
DESCRIPTION:Join us as Bob Hulit gives us an overview of The Achievement Ce
 nter at Raritan Valley Community College.\n\n** You will receive a zoom li
 nk  a few days before the event.
DTSTART;TZID=America/New_York:20221208T180000
DTEND;TZID=America/New_York:20221208T190000
LOCATION:This is an online event. After you register\, you will receive the
  link to join the meeting a few days before the event.
SUMMARY:College Tour- Virtual The Achievement Center at Raritan Valley Comm
 unity College
END:VEVENT
END:VCALENDAR
