BEGIN:VCALENDAR
VERSION:2.0
PRODID:-//www.thearcfamilyinstitute.org//NONSGML kigkonsult.se iCalcreator 
 2.30.10//
CALSCALE:GREGORIAN
METHOD:PUBLISH
UID:18939246-f2ac-4c5c-a346-fdcf6ae51de5
X-WR-CALDESC:This presentation or webinar will provide an overview of enter
 ing the DDD service system and explain eligibility requirements\, the inta
 ke process\, what services are available\, and  information  related  to D
 DD’s care  management  system  (Support Coordination).
X-WR-RELCALID:d0a9cff6a6816156e8210af3e00a082c
X-WR-TIMEZONE:America/New_York
BEGIN:VTIMEZONE
TZID:America/New_York
BEGIN:STANDARD
TZNAME:EST
DTSTART:20221106T020000
TZOFFSETFROM:-0400
TZOFFSETTO:-0500
RDATE:20231105T020000
END:STANDARD
BEGIN:DAYLIGHT
TZNAME:EDT
DTSTART:20220313T020000
TZOFFSETFROM:-0500
TZOFFSETTO:-0400
RDATE:20230312T020000
RDATE:20240310T020000
END:DAYLIGHT
END:VTIMEZONE
BEGIN:VEVENT
UID:aa55751f-e0ac-4c9c-9420-533e1102996e
DTSTAMP:20260424T024736Z
DESCRIPTION:This presentation or webinar will provide an overview of enteri
 ng the DDD service system and explain eligibility requirements\, the intak
 e process\, what services are available\, and  information  related  to DD
 D’s care  management  system  (Support Coordination).
DTSTART;TZID=America/New_York:20221206T180000
DTEND;TZID=America/New_York:20221206T190000
LOCATION:
SUMMARY:Navigating the Division of Developmental Disabilities Service Syste
 m
END:VEVENT
END:VCALENDAR
