BEGIN:VCALENDAR
VERSION:2.0
PRODID:-//www.thearcfamilyinstitute.org//NONSGML kigkonsult.se iCalcreator 
 2.30.10//
CALSCALE:GREGORIAN
METHOD:PUBLISH
UID:101e7843-ff57-4bac-b741-5152866b10f3
X-WR-CALDESC:During this zoom Individuals with IDD and their families will 
 learn what the next steps are when their loved one with IDD prepares for t
 heir adult life. \n\n* A Zoom link will be sent a few days before the even
 t.
X-WR-RELCALID:5f2f87e7029028641cfc00fe4da03f03
X-WR-TIMEZONE:America/New_York
BEGIN:VTIMEZONE
TZID:America/New_York
BEGIN:STANDARD
TZNAME:EST
DTSTART:20221106T020000
TZOFFSETFROM:-0400
TZOFFSETTO:-0500
RDATE:20231105T020000
END:STANDARD
BEGIN:DAYLIGHT
TZNAME:EDT
DTSTART:20220313T020000
TZOFFSETFROM:-0500
TZOFFSETTO:-0400
RDATE:20230312T020000
RDATE:20240310T020000
END:DAYLIGHT
END:VTIMEZONE
BEGIN:VEVENT
UID:98df44e5-b8b6-4c62-892e-26046df310b2
DTSTAMP:20260424T025033Z
DESCRIPTION:During this zoom Individuals with IDD and their families will l
 earn what the next steps are when their loved one with IDD prepares for th
 eir adult life. \n\n* A Zoom link will be sent a few days before the event
 .
DTSTART;TZID=America/New_York:20221130T130000
DTEND;TZID=America/New_York:20221130T140000
LOCATION:
SUMMARY:Zoom with Us- Afternoon Edition: My Student Just Turned 18- What Do
  I Need to Do!
END:VEVENT
END:VCALENDAR
