BEGIN:VCALENDAR
VERSION:2.0
PRODID:-//www.thearcfamilyinstitute.org//NONSGML kigkonsult.se iCalcreator 
 2.30.10//
CALSCALE:GREGORIAN
METHOD:PUBLISH
UID:a9cdaa89-a61c-4654-8c89-e8f25570ffc9
X-WR-CALDESC:College can be a great option for students with intellectual a
 nd developmental disabilities\n(I/DD). A growing number of programs offer 
 varied opportunities to learn academic\, career\nand independent living sk
 ills as they prepare for employment. Join us and The Arc of New\nJersey Fa
 mily Insinuate as we discuss different programs offered in New Jersey and 
 possible\nways to pay for college. Additionally\, we will discuss how to w
 rite IEP goals for post-secondary\noptions when working with the Child Stu
 dy Team.\n\n* You will receive the Zoom link a few days before the event.
X-WR-RELCALID:db60cec44f9f2801e97bffab6a458dab
X-WR-TIMEZONE:America/New_York
BEGIN:VTIMEZONE
TZID:America/New_York
BEGIN:STANDARD
TZNAME:EST
DTSTART:20211107T020000
TZOFFSETFROM:-0400
TZOFFSETTO:-0500
RDATE:20221106T020000
RDATE:20231105T020000
END:STANDARD
BEGIN:DAYLIGHT
TZNAME:EDT
DTSTART:20220313T020000
TZOFFSETFROM:-0500
TZOFFSETTO:-0400
RDATE:20230312T020000
RDATE:20240310T020000
END:DAYLIGHT
END:VTIMEZONE
BEGIN:VEVENT
UID:668ff51d-0242-4914-9155-fec559bed105
DTSTAMP:20260424T024914Z
DESCRIPTION:College can be a great option for students with intellectual an
 d developmental disabilities\n(I/DD). A growing number of programs offer v
 aried opportunities to learn academic\, career\nand independent living ski
 lls as they prepare for employment. Join us and The Arc of New\nJersey Fam
 ily Insinuate as we discuss different programs offered in New Jersey and p
 ossible\nways to pay for college. Additionally\, we will discuss how to wr
 ite IEP goals for post-secondary\noptions when working with the Child Stud
 y Team.\n\n* You will receive the Zoom link a few days before the event.
DTSTART;TZID=America/New_York:20221104T130000
DTEND;TZID=America/New_York:20221104T140000
LOCATION:
SUMMARY:Zoom with Us- Afternoon Edition: Post-secondary (College) Options f
 or Students with Intellectual and Developmental Disabilities
END:VEVENT
END:VCALENDAR
