BEGIN:VCALENDAR
VERSION:2.0
PRODID:-//www.thearcfamilyinstitute.org//NONSGML kigkonsult.se iCalcreator 
 2.30.10//
CALSCALE:GREGORIAN
METHOD:PUBLISH
UID:b6ea2619-68c3-4de8-afd8-34565e25e6af
X-WR-CALDESC:Join us as we chat with Susan Freedman\, Unit Coordinator of S
 pecial Child Health Services (SCHS) in Hunterdon County. Susan will give u
 s an overview of SCHS and discuss how the Case Management Unit  can help f
 amilies navigate the system of care.\n\n** You will receive a Zoom link a 
 few days before the event.
X-WR-RELCALID:17f16514efd3bf2ab830022ae8daed5f
X-WR-TIMEZONE:America/New_York
BEGIN:VTIMEZONE
TZID:America/New_York
BEGIN:STANDARD
TZNAME:EST
DTSTART:20211107T020000
TZOFFSETFROM:-0400
TZOFFSETTO:-0500
RDATE:20221106T020000
RDATE:20231105T020000
END:STANDARD
BEGIN:DAYLIGHT
TZNAME:EDT
DTSTART:20220313T020000
TZOFFSETFROM:-0500
TZOFFSETTO:-0400
RDATE:20230312T020000
RDATE:20240310T020000
END:DAYLIGHT
END:VTIMEZONE
BEGIN:VEVENT
UID:7bfda0d4-0c44-4490-b5c9-718dd16ac325
DTSTAMP:20260424T025216Z
DESCRIPTION:Join us as we chat with Susan Freedman\, Unit Coordinator of Sp
 ecial Child Health Services (SCHS) in Hunterdon County. Susan will give us
  an overview of SCHS and discuss how the Case Management Unit  can help fa
 milies navigate the system of care.\n\n** You will receive a Zoom link a f
 ew days before the event.
DTSTART;TZID=America/New_York:20221102T180000
DTEND;TZID=America/New_York:20221102T190000
LOCATION:
SUMMARY:FI Fireside Chat with Susan Freedman from Special  Child Health Ser
 vices
END:VEVENT
END:VCALENDAR
