BEGIN:VCALENDAR
VERSION:2.0
PRODID:-//www.thearcfamilyinstitute.org//NONSGML kigkonsult.se iCalcreator 
 2.30.10//
CALSCALE:GREGORIAN
METHOD:PUBLISH
UID:5ac37f23-7df6-446b-a49d-635af83f53b2
X-WR-CALDESC:This workshop will provide information on transition planning 
 is crucial to increasing successful outcomes for life after high school. T
 ransition planning is crucial to increasing successful outcomes for life a
 fter high school. This workshop will discuss issues related to transitioni
 ng from school to adultlife. Discussion to help identify interests and fut
 ure plans will be included. Strategies for developing appropriate goals as
  part of the IEP process will be offered. Parents and students will be inf
 ormed about resources in the community they can connect with to build link
 ages and ensure a dignified life as contributing and participating members
  of their community
X-WR-RELCALID:a2749671bbc984fa791b32cb46ef6e34
X-WR-TIMEZONE:America/New_York
BEGIN:VTIMEZONE
TZID:America/New_York
BEGIN:STANDARD
TZNAME:EST
DTSTART:20211107T020000
TZOFFSETFROM:-0400
TZOFFSETTO:-0500
RDATE:20221106T020000
RDATE:20231105T020000
END:STANDARD
BEGIN:DAYLIGHT
TZNAME:EDT
DTSTART:20220313T020000
TZOFFSETFROM:-0500
TZOFFSETTO:-0400
RDATE:20230312T020000
RDATE:20240310T020000
END:DAYLIGHT
END:VTIMEZONE
BEGIN:VEVENT
UID:98950a20-2bb5-4766-a061-18ba95594424
DTSTAMP:20260424T025125Z
DESCRIPTION:This workshop will provide information on transition planning i
 s crucial to increasing successful outcomes for life after high school. Tr
 ansition planning is crucial to increasing successful outcomes for life af
 ter high school. This workshop will discuss issues related to transitionin
 g from school to adultlife. Discussion to help identify interests and futu
 re plans will be included. Strategies for developing appropriate goals as 
 part of the IEP process will be offered. Parents and students will be info
 rmed about resources in the community they can connect with to build linka
 ges and ensure a dignified life as contributing and participating members 
 of their community
DTSTART;TZID=America/New_York:20221101T180000
DTEND;TZID=America/New_York:20221101T190000
LOCATION:
SUMMARY:Looking to the Future: Transition from School to Adult Life
END:VEVENT
END:VCALENDAR
