BEGIN:VCALENDAR
VERSION:2.0
PRODID:-//www.thearcfamilyinstitute.org//NONSGML kigkonsult.se iCalcreator 
 2.30.10//
CALSCALE:GREGORIAN
METHOD:PUBLISH
UID:f7dc95ce-2ccf-455e-a574-c8e34af27c24
X-WR-CALDESC:
X-WR-RELCALID:09286e206bbcdd8517974eb3ef7cc5bb
X-WR-TIMEZONE:America/New_York
BEGIN:VTIMEZONE
TZID:America/New_York
BEGIN:STANDARD
TZNAME:EST
DTSTART:20211107T020000
TZOFFSETFROM:-0400
TZOFFSETTO:-0500
RDATE:20221106T020000
RDATE:20231105T020000
END:STANDARD
BEGIN:DAYLIGHT
TZNAME:EDT
DTSTART:20220313T020000
TZOFFSETFROM:-0500
TZOFFSETTO:-0400
RDATE:20230312T020000
RDATE:20240310T020000
END:DAYLIGHT
END:VTIMEZONE
BEGIN:VEVENT
UID:1dc674d8-4a63-4973-9b09-88e8d5e9c918
DTSTAMP:20260424T024946Z
DESCRIPTION:
DTSTART;TZID=America/New_York:20221018T180000
DTEND;TZID=America/New_York:20221018T190000
LOCATION:
SUMMARY:How to Navigate the Medicaid Maze for Individuals with IDD
END:VEVENT
END:VCALENDAR
