BEGIN:VCALENDAR
VERSION:2.0
PRODID:-//www.thearcfamilyinstitute.org//NONSGML kigkonsult.se iCalcreator 
 2.30.10//
CALSCALE:GREGORIAN
METHOD:PUBLISH
UID:6db37cd2-be5f-4c0e-977f-670f88b13427
X-WR-CALDESC:Whether you’re preparing for your child’s first IEP meeting or
  you have been to several\nalready\, this presentation is for you. Join Th
 e Arc of New Jersey Family Institute as we discuss\nthe IEP process\, fede
 ral and state laws that regulate special education services and discuss\nw
 hat your student’s IEP Transition Plan may include.\n\n*You will receive t
 he Zoom link a few days before the event.
X-WR-RELCALID:44633f0e8c0f0138dd15457136a51099
X-WR-TIMEZONE:America/New_York
BEGIN:VTIMEZONE
TZID:America/New_York
BEGIN:STANDARD
TZNAME:EST
DTSTART:20211107T020000
TZOFFSETFROM:-0400
TZOFFSETTO:-0500
RDATE:20221106T020000
RDATE:20231105T020000
END:STANDARD
BEGIN:DAYLIGHT
TZNAME:EDT
DTSTART:20220313T020000
TZOFFSETFROM:-0500
TZOFFSETTO:-0400
RDATE:20230312T020000
RDATE:20240310T020000
END:DAYLIGHT
END:VTIMEZONE
BEGIN:VEVENT
UID:ecc6c883-c4df-4dc6-9f2c-e776840ae0ce
DTSTAMP:20260424T025155Z
DESCRIPTION:Whether you’re preparing for your child’s first IEP meeting or 
 you have been to several\nalready\, this presentation is for you. Join The
  Arc of New Jersey Family Institute as we discuss\nthe IEP process\, feder
 al and state laws that regulate special education services and discuss\nwh
 at your student’s IEP Transition Plan may include.\n\n*You will receive th
 e Zoom link a few days before the event.
DTSTART;TZID=America/New_York:20220929T130000
DTEND;TZID=America/New_York:20220929T140000
LOCATION:
SUMMARY:Zoom with Us- Afternoon Edition: What's in Your Child's IEP and How
  to Plan for Transition
END:VEVENT
END:VCALENDAR
