BEGIN:VCALENDAR
VERSION:2.0
PRODID:-//www.thearcfamilyinstitute.org//NONSGML kigkonsult.se iCalcreator 
 2.30.10//
CALSCALE:GREGORIAN
METHOD:PUBLISH
UID:70529a81-1cb1-412c-83df-c184b14eb741
X-WR-CALDESC:Join us as we talk with representatives from the COMPASS progr
 am at Fairleigh Dickinson University. The COMPASS program is an individual
 ly tailored\, comprehensive\, academic\, and social support program for co
 llege students with Autism Spectrum Disorder. In this information session\
 , you will receive an overview of COMPASS\, information on how to apply\, 
 and what the program will cost.\n\n** You will receive a zoom link for thi
 s information session a few days before the event.
X-WR-RELCALID:20315970faeccf361e621accae0732a8
X-WR-TIMEZONE:America/New_York
BEGIN:VTIMEZONE
TZID:America/New_York
BEGIN:STANDARD
TZNAME:EST
DTSTART:20211107T020000
TZOFFSETFROM:-0400
TZOFFSETTO:-0500
RDATE:20221106T020000
RDATE:20231105T020000
END:STANDARD
BEGIN:DAYLIGHT
TZNAME:EDT
DTSTART:20220313T020000
TZOFFSETFROM:-0500
TZOFFSETTO:-0400
RDATE:20230312T020000
RDATE:20240310T020000
END:DAYLIGHT
END:VTIMEZONE
BEGIN:VEVENT
UID:9e310e84-1fea-471f-a0a7-5d255edc25b4
DTSTAMP:20260424T024610Z
DESCRIPTION:Join us as we talk with representatives from the COMPASS progra
 m at Fairleigh Dickinson University. The COMPASS program is an individuall
 y tailored\, comprehensive\, academic\, and social support program for col
 lege students with Autism Spectrum Disorder. In this information session\,
  you will receive an overview of COMPASS\, information on how to apply\, a
 nd what the program will cost.\n\n** You will receive a zoom link for this
  information session a few days before the event.
DTSTART;TZID=America/New_York:20220929T180000
DTEND;TZID=America/New_York:20220929T190000
LOCATION:
SUMMARY:Fairleigh Dickinson University- COMPASS Program - Virtual Informati
 on Session
END:VEVENT
END:VCALENDAR
