BEGIN:VCALENDAR
VERSION:2.0
PRODID:-//www.thearcfamilyinstitute.org//NONSGML kigkonsult.se iCalcreator 
 2.30.10//
CALSCALE:GREGORIAN
METHOD:PUBLISH
UID:fbd4adb4-16cd-4510-9bc3-5a918f0dd88c
X-WR-CALDESC:Join us as we talk with Amy Taklif\, Medical Social Work Analy
 st at NJ Catastrophic Illness in Children Relief Fund. The fund is a finan
 cial program for families with medical expenses due to a child's illness o
 r condition. \n\n **You will receive a zoom link a few days before the eve
 nt.
X-WR-RELCALID:52a48daaed56100279d9e118a386cabf
X-WR-TIMEZONE:America/New_York
BEGIN:VTIMEZONE
TZID:America/New_York
BEGIN:STANDARD
TZNAME:EST
DTSTART:20211107T020000
TZOFFSETFROM:-0400
TZOFFSETTO:-0500
RDATE:20221106T020000
RDATE:20231105T020000
END:STANDARD
BEGIN:DAYLIGHT
TZNAME:EDT
DTSTART:20220313T020000
TZOFFSETFROM:-0500
TZOFFSETTO:-0400
RDATE:20230312T020000
RDATE:20240310T020000
END:DAYLIGHT
END:VTIMEZONE
BEGIN:VEVENT
UID:9a71a034-25b4-4708-b524-2fe8c7f22b88
DTSTAMP:20260424T025216Z
DESCRIPTION:Join us as we talk with Amy Taklif\, Medical Social Work Analys
 t at NJ Catastrophic Illness in Children Relief Fund. The fund is a financ
 ial program for families with medical expenses due to a child's illness or
  condition. \n\n **You will receive a zoom link a few days before the even
 t.
DTSTART;TZID=America/New_York:20220920T180000
DTEND;TZID=America/New_York:20220920T190000
LOCATION:
SUMMARY:FI Fireside Chat with Amy Taklif from NJ Catastrophic Illness in Ch
 ildren Relief Fund
END:VEVENT
END:VCALENDAR
