BEGIN:VCALENDAR
VERSION:2.0
PRODID:-//www.thearcfamilyinstitute.org//NONSGML kigkonsult.se iCalcreator 
 2.30.10//
CALSCALE:GREGORIAN
METHOD:PUBLISH
UID:796a3831-a653-4742-9b49-3f3b5b1711ff
X-WR-CALDESC:In this webinar Diane Riley\, Executive Director of the Suppor
 tive Housing Association of New Jersey\, will discuss what supportive hous
 ing is\, who needs it and how to make it work for your loved one with IDD.
X-WR-RELCALID:5451ffe42d4cf4a4c8df14a1ec67a8d3
X-WR-TIMEZONE:America/New_York
BEGIN:VTIMEZONE
TZID:America/New_York
BEGIN:STANDARD
TZNAME:EST
DTSTART:20211107T020000
TZOFFSETFROM:-0400
TZOFFSETTO:-0500
RDATE:20221106T020000
RDATE:20231105T020000
END:STANDARD
BEGIN:DAYLIGHT
TZNAME:EDT
DTSTART:20220313T020000
TZOFFSETFROM:-0500
TZOFFSETTO:-0400
RDATE:20230312T020000
RDATE:20240310T020000
END:DAYLIGHT
END:VTIMEZONE
BEGIN:VEVENT
UID:3e033ec4-5cde-4f28-b771-a24f5e64273d
DTSTAMP:20260424T025222Z
DESCRIPTION:In this webinar Diane Riley\, Executive Director of the Support
 ive Housing Association of New Jersey\, will discuss what supportive housi
 ng is\, who needs it and how to make it work for your loved one with IDD.
DTSTART;TZID=America/New_York:20220913T180000
DTEND;TZID=America/New_York:20220913T190000
LOCATION:
SUMMARY:The Journey to Community Housing with Supports/ A Road Map for Indi
 viduals with Disabilities and their Families
END:VEVENT
END:VCALENDAR
