BEGIN:VCALENDAR
VERSION:2.0
PRODID:-//www.thearcfamilyinstitute.org//NONSGML kigkonsult.se iCalcreator 
 2.30.10//
CALSCALE:GREGORIAN
METHOD:PUBLISH
UID:b8896a17-c5cb-4779-9307-450703dceb38
X-WR-CALDESC:Join us while we chat with Bob Hulit\, the Curriculum Coordina
 tor at The Achievement Center at Raritan Valley Community College. Bob wil
 l give an overview of The Achievement Center and we will discuss all the g
 reat reasons to attend college.
X-WR-RELCALID:3effbef46e6c996747239035fe5c50e0
X-WR-TIMEZONE:America/New_York
BEGIN:VTIMEZONE
TZID:America/New_York
BEGIN:STANDARD
TZNAME:EST
DTSTART:20211107T020000
TZOFFSETFROM:-0400
TZOFFSETTO:-0500
RDATE:20221106T020000
RDATE:20231105T020000
END:STANDARD
BEGIN:DAYLIGHT
TZNAME:EDT
DTSTART:20220313T020000
TZOFFSETFROM:-0500
TZOFFSETTO:-0400
RDATE:20230312T020000
END:DAYLIGHT
END:VTIMEZONE
BEGIN:VEVENT
UID:92ce9c96-2386-454c-9279-de91283e7ae4
DTSTAMP:20260424T041442Z
DESCRIPTION:Join us while we chat with Bob Hulit\, the Curriculum Coordinat
 or at The Achievement Center at Raritan Valley Community College. Bob will
  give an overview of The Achievement Center and we will discuss all the gr
 eat reasons to attend college.
DTSTART;TZID=America/New_York:20220602T180000
DTEND;TZID=America/New_York:20220602T190000
LOCATION:This is an online event. After you register\, you will receive the
  link to join the meeting a few days before the event.
SUMMARY:FI's Campfire Chat with Bob Hulit
END:VEVENT
END:VCALENDAR
