BEGIN:VCALENDAR
VERSION:2.0
PRODID:-//www.thearcfamilyinstitute.org//NONSGML kigkonsult.se iCalcreator 
 2.30.10//
CALSCALE:GREGORIAN
METHOD:PUBLISH
UID:56dc6d5d-3a2e-401d-bc38-6bbae454bd11
X-WR-CALDESC:Throughout the workshop\, it will be highlighted how ADHD and 
 Executive Function challenges impact learning and behavior. A basic unders
 tanding of Executive Functions will be presented and tips\, tools\, and st
 rategies to support our students in and out of the classroom will be share
 d. Attendees will walk away with an understanding of the impact of communi
 cation\, connection\, and empathy as the foundational work. \n\nAndrea Elr
 om is an ADHD and Executive Function coach with more than 19 years working
  with children and parents. In her New York and New Jersey-based practices
  (which includes workshops\, individual and group sessions)\, Andrea empha
 sizes the use of empathy and understanding to help parents develop effecti
 ve strategies for addressing their children's challenging behaviors.  She 
 also works with independent schools\, using a strengths-based approach to 
 help students develop their executive function skills. In her Calm and Con
 nected@ workshop series.  Andrea earned her Master's degree in Education f
 rom NYU and received her ADHD coach training through the ADD Coach Academy
 .  She is the co-founder of CreADDive Solutions\, often presents at the Ha
 llowell Center NYC\, and facilitates ADDA and CHADD parent support groups.
X-WR-RELCALID:c330c22ab4ca93ddf807a95a58962d67
X-WR-TIMEZONE:America/New_York
BEGIN:VTIMEZONE
TZID:America/New_York
BEGIN:STANDARD
TZNAME:EST
DTSTART:20211107T020000
TZOFFSETFROM:-0400
TZOFFSETTO:-0500
RDATE:20221106T020000
RDATE:20231105T020000
END:STANDARD
BEGIN:DAYLIGHT
TZNAME:EDT
DTSTART:20220313T020000
TZOFFSETFROM:-0500
TZOFFSETTO:-0400
RDATE:20230312T020000
END:DAYLIGHT
END:VTIMEZONE
BEGIN:VEVENT
UID:2e1030a7-e735-4a02-ac93-6761e9f7031d
DTSTAMP:20260424T022834Z
DESCRIPTION:Throughout the workshop\, it will be highlighted how ADHD and E
 xecutive Function challenges impact learning and behavior. A basic underst
 anding of Executive Functions will be presented and tips\, tools\, and str
 ategies to support our students in and out of the classroom will be shared
 . Attendees will walk away with an understanding of the impact of communic
 ation\, connection\, and empathy as the foundational work. \n\nAndrea Elro
 m is an ADHD and Executive Function coach with more than 19 years working 
 with children and parents. In her New York and New Jersey-based practices 
 (which includes workshops\, individual and group sessions)\, Andrea emphas
 izes the use of empathy and understanding to help parents develop effectiv
 e strategies for addressing their children's challenging behaviors.  She a
 lso works with independent schools\, using a strengths-based approach to h
 elp students develop their executive function skills. In her Calm and Conn
 ected@ workshop series.  Andrea earned her Master's degree in Education fr
 om NYU and received her ADHD coach training through the ADD Coach Academy.
   She is the co-founder of CreADDive Solutions\, often presents at the Hal
 lowell Center NYC\, and facilitates ADDA and CHADD parent support groups.
DTSTART;TZID=America/New_York:20220526T180000
DTEND;TZID=America/New_York:20220526T190000
LOCATION:https://attendee.gotowebinar.com/register/4106104606245493519
SUMMARY:Supporting Students with ADHD
END:VEVENT
END:VCALENDAR
