BEGIN:VCALENDAR
VERSION:2.0
PRODID:-//www.thearcfamilyinstitute.org//NONSGML kigkonsult.se iCalcreator 
 2.30.10//
CALSCALE:GREGORIAN
METHOD:PUBLISH
UID:58ddf353-257d-467c-ba47-098504f1fb3c
X-WR-CALDESC:The Catastrophic Illness in Children Relief Fund is a financia
 l assistance program for New Jersey families whose children have an illnes
 s or condition. For those eligible\, it reimburses families and guardians 
 for expenses incurred not otherwise covered by health insurance or State o
 r Federal programs. \n\nThis webinar is hosted by The Arc of New Jersey Fa
 mily Institute and presented by Amy Taklif\, M.S.W.\, L.S.W\, Medical Soci
 al Work Consultant.
X-WR-RELCALID:d03cdc264166d1f89780caedb350ffc8
X-WR-TIMEZONE:America/New_York
BEGIN:VTIMEZONE
TZID:America/New_York
BEGIN:STANDARD
TZNAME:EST
DTSTART:20211107T020000
TZOFFSETFROM:-0400
TZOFFSETTO:-0500
RDATE:20221106T020000
RDATE:20231105T020000
END:STANDARD
BEGIN:DAYLIGHT
TZNAME:EDT
DTSTART:20220313T020000
TZOFFSETFROM:-0500
TZOFFSETTO:-0400
RDATE:20230312T020000
END:DAYLIGHT
END:VTIMEZONE
BEGIN:VEVENT
UID:c838d5fd-cd68-4c68-b538-1a5fcb74ab65
DTSTAMP:20260424T022909Z
DESCRIPTION:The Catastrophic Illness in Children Relief Fund is a financial
  assistance program for New Jersey families whose children have an illness
  or condition. For those eligible\, it reimburses families and guardians f
 or expenses incurred not otherwise covered by health insurance or State or
  Federal programs. \n\nThis webinar is hosted by The Arc of New Jersey Fam
 ily Institute and presented by Amy Taklif\, M.S.W.\, L.S.W\, Medical Socia
 l Work Consultant.
DTSTART;TZID=America/New_York:20220519T120000
DTEND;TZID=America/New_York:20220519T130000
LOCATION:
SUMMARY:An Overview of the Catastrophic Illness in Children Relief Fund
END:VEVENT
END:VCALENDAR
