BEGIN:VCALENDAR
VERSION:2.0
PRODID:-//www.thearcfamilyinstitute.org//NONSGML kigkonsult.se iCalcreator 
 2.30.10//
CALSCALE:GREGORIAN
METHOD:PUBLISH
UID:7654d4f2-ebb3-4abb-8e48-5158da0d8733
X-WR-CALDESC:This presentation will give an overview of Able Accounts and t
 he benefits of opening up an account.
X-WR-RELCALID:83fe02abc86705afa1afb1206121bc4a
X-WR-TIMEZONE:America/New_York
BEGIN:VTIMEZONE
TZID:America/New_York
BEGIN:STANDARD
TZNAME:EST
DTSTART:20211107T020000
TZOFFSETFROM:-0400
TZOFFSETTO:-0500
RDATE:20221106T020000
RDATE:20231105T020000
END:STANDARD
BEGIN:DAYLIGHT
TZNAME:EDT
DTSTART:20220313T020000
TZOFFSETFROM:-0500
TZOFFSETTO:-0400
RDATE:20230312T020000
END:DAYLIGHT
END:VTIMEZONE
BEGIN:VEVENT
UID:881957f8-483d-4ecb-b5e5-97da6763a9a2
DTSTAMP:20260424T022904Z
DESCRIPTION:This presentation will give an overview of Able Accounts and th
 e benefits of opening up an account.
DTSTART;TZID=America/New_York:20220510T180000
DTEND;TZID=America/New_York:20220510T190000
LOCATION:This is an online event. After you register\, you will receive the
  link to join the meeting a few days before the event.
SUMMARY:Zoom with Us: What Are Able Accounts and How Can They Help My Loved
  One With IDD?
END:VEVENT
END:VCALENDAR
