BEGIN:VCALENDAR
VERSION:2.0
PRODID:-//www.thearcfamilyinstitute.org//NONSGML kigkonsult.se iCalcreator 
 2.30.10//
CALSCALE:GREGORIAN
METHOD:PUBLISH
UID:d033e7cf-9a4b-479e-b119-cbd5b954d5f5
X-WR-CALDESC:This presentation will give you an overview of The Community C
 are Program within the Division of Developmental Disabilities and how to a
 ccess it.
X-WR-RELCALID:e8b1f8e153b4ef5b011adb45320b3e9c
X-WR-TIMEZONE:America/New_York
BEGIN:VTIMEZONE
TZID:America/New_York
BEGIN:STANDARD
TZNAME:EST
DTSTART:20211107T020000
TZOFFSETFROM:-0400
TZOFFSETTO:-0500
RDATE:20221106T020000
END:STANDARD
BEGIN:DAYLIGHT
TZNAME:EDT
DTSTART:20220313T020000
TZOFFSETFROM:-0500
TZOFFSETTO:-0400
RDATE:20230312T020000
END:DAYLIGHT
END:VTIMEZONE
BEGIN:VEVENT
UID:95e8af69-f847-45fc-8cfb-07b98a9da404
DTSTAMP:20260424T035540Z
DESCRIPTION:This presentation will give you an overview of The Community Ca
 re Program within the Division of Developmental Disabilities and how to ac
 cess it.
DTSTART;TZID=America/New_York:20220413T180000
DTEND;TZID=America/New_York:20220413T190000
LOCATION:This is an online event. After you register\, you will receive the
  link to join the meeting a few days before the event.
SUMMARY:Zoom with Us: What is the Community Care Program and How Do I Acces
 s It?
END:VEVENT
END:VCALENDAR
