BEGIN:VCALENDAR
VERSION:2.0
PRODID:-//www.thearcfamilyinstitute.org//NONSGML kigkonsult.se iCalcreator 
 2.30.10//
CALSCALE:GREGORIAN
METHOD:PUBLISH
UID:8b62bc57-efaf-4709-9c2a-7cbc2d62f290
X-WR-CALDESC:You read that title right! This discussion will help parents f
 eel prepared and confident when attending their child's IEP meeting. Join 
 Michael Pearson Jr.\, Assistant Director of Children's Advocacy\, as he sh
 ares strategies for a productive IEP meeting and gives specific examples o
 f what parents can ask for and how to effectively voice any concerns. Pare
 nts are an important part of the IEP Team\, and we're here to make sure th
 at you're equipped for success.
X-WR-RELCALID:3c2c8fc81e0c6cbf4068ca62e5103d8e
X-WR-TIMEZONE:America/New_York
BEGIN:VTIMEZONE
TZID:America/New_York
BEGIN:STANDARD
TZNAME:EST
DTSTART:20211107T020000
TZOFFSETFROM:-0400
TZOFFSETTO:-0500
RDATE:20221106T020000
END:STANDARD
BEGIN:DAYLIGHT
TZNAME:EDT
DTSTART:20210314T020000
TZOFFSETFROM:-0500
TZOFFSETTO:-0400
RDATE:20220313T020000
RDATE:20230312T020000
END:DAYLIGHT
END:VTIMEZONE
BEGIN:VEVENT
UID:8e60fad1-630a-45ef-8cec-532024a60ce4
DTSTAMP:20260423T233728Z
DESCRIPTION:You read that title right! This discussion will help parents fe
 el prepared and confident when attending their child's IEP meeting. Join M
 ichael Pearson Jr.\, Assistant Director of Children's Advocacy\, as he sha
 res strategies for a productive IEP meeting and gives specific examples of
  what parents can ask for and how to effectively voice any concerns. Paren
 ts are an important part of the IEP Team\, and we're here to make sure tha
 t you're equipped for success.
DTSTART;TZID=America/New_York:20220309T180000
DTEND;TZID=America/New_York:20220309T190000
LOCATION:This is an online event. After you register\, you will receive the
  link to join the meeting a few days before the event.
SUMMARY:IEP Meetings Don't Have to Be Scary
END:VEVENT
END:VCALENDAR
