BEGIN:VCALENDAR
VERSION:2.0
PRODID:-//www.thearcfamilyinstitute.org//NONSGML kigkonsult.se iCalcreator 
 2.30.10//
CALSCALE:GREGORIAN
METHOD:PUBLISH
UID:9de05f60-bbe6-48b3-8da9-24118ad7354a
X-WR-CALDESC:
X-WR-RELCALID:457bc156de9db4f996a3df30b338afbf
X-WR-TIMEZONE:America/New_York
BEGIN:VTIMEZONE
TZID:America/New_York
BEGIN:STANDARD
TZNAME:EST
DTSTART:20171105T020000
TZOFFSETFROM:-0400
TZOFFSETTO:-0500
RDATE:20181104T020000
RDATE:20191103T020000
END:STANDARD
BEGIN:DAYLIGHT
TZNAME:EDT
DTSTART:20180311T020000
TZOFFSETFROM:-0500
TZOFFSETTO:-0400
RDATE:20190310T020000
RDATE:20200308T020000
END:DAYLIGHT
END:VTIMEZONE
BEGIN:VEVENT
UID:3716b93c-b269-422e-b81c-a040b100c87a
DTSTAMP:20260423T090719Z
DESCRIPTION:
DTSTART;TZID=America/New_York:20181030T183000
DTEND;TZID=America/New_York:20181030T203000
LOCATION:SCARCHampton Community Center\,  4 Camre Drive\, Newton\, NJ
SUMMARY:SCARC (The Arc of Sussex) - Basic Rights in Special Education
END:VEVENT
END:VCALENDAR
