BEGIN:VCALENDAR
VERSION:2.0
PRODID:-//www.thearcfamilyinstitute.org//NONSGML kigkonsult.se iCalcreator 
 2.30.10//
CALSCALE:GREGORIAN
METHOD:PUBLISH
UID:136ca0f4-9498-4a8e-ae32-5e21019229d7
X-WR-CALDESC:
X-WR-RELCALID:2cf60d518518c57d5fe03177022675ec
X-WR-TIMEZONE:America/New_York
BEGIN:VTIMEZONE
TZID:America/New_York
BEGIN:STANDARD
TZNAME:EST
DTSTART:20171105T020000
TZOFFSETFROM:-0400
TZOFFSETTO:-0500
RDATE:20181104T020000
RDATE:20191103T020000
END:STANDARD
BEGIN:DAYLIGHT
TZNAME:EDT
DTSTART:20180311T020000
TZOFFSETFROM:-0500
TZOFFSETTO:-0400
RDATE:20190310T020000
RDATE:20200308T020000
END:DAYLIGHT
END:VTIMEZONE
BEGIN:VEVENT
UID:9956cdad-abc8-423d-9b35-b3787869c304
DTSTAMP:20260423T090141Z
DESCRIPTION:
DTSTART;TZID=America/New_York:20181025T180000
DTEND;TZID=America/New_York:20181025T210000
LOCATION:The Arc of Atlantic\, 6550 Delilah Road\, Suite 101\, Egg Harbor T
 ownship\, 08234\, Use main entrance door
SUMMARY:IEP Review - South Jersey
END:VEVENT
END:VCALENDAR
