BEGIN:VCALENDAR
VERSION:2.0
PRODID:-//www.thearcfamilyinstitute.org//NONSGML kigkonsult.se iCalcreator 
 2.30.10//
CALSCALE:GREGORIAN
METHOD:PUBLISH
UID:033f1af4-0992-4a03-9cf8-1b9cbd78072b
X-WR-CALDESC:When most people hear about “Social Security benefits\,” the f
 irst thought that comes to mind is income for older people who have retire
 d from work. It’s true that the Social Security system provides a foundati
 on of retirement income that permits seniors to live in dignity\, with ove
 r 43 million retired workers receiving benefits each month.\n\nHowever\, t
 he Social Security system is also the foundation of economic security for 
 millions of family members of retired\, disabled or deceased workers. In a
 ddition to retirement benefits\, Social Security offers disability insuran
 ce protection to workers and their spouse and children\, as well as life i
 nsurance that pays monthly benefits to dependents if the worker dies. \n\n
 Join this webinar\, Social Security Benefits You’ve Never Heard of\, and W
 ho is Eligible for Them\, to learn more about the eligibility requirements
  for benefits for spouses and ex-spouses\, children\, and parents. About o
 ne American family in four receives income from Social Security benefits\,
  and many more could receive this income if they knew they were eligible.
 \n\nWho Should Participate: \nThis webinar is designed for those who are n
 ew to Social Security benefits and others who want to learn more about the
  lesser-known aspects of the program.\n\nPresenters:\nTracey Gronniger\, J
 ustice in Aging\nKate Lang\, Justice in Aging
X-WR-RELCALID:d94f7eb1918aa892fe47e7aab6a2a196
X-WR-TIMEZONE:America/New_York
BEGIN:VTIMEZONE
TZID:America/New_York
BEGIN:STANDARD
TZNAME:EST
DTSTART:20171105T020000
TZOFFSETFROM:-0400
TZOFFSETTO:-0500
RDATE:20181104T020000
RDATE:20191103T020000
END:STANDARD
BEGIN:DAYLIGHT
TZNAME:EDT
DTSTART:20180311T020000
TZOFFSETFROM:-0500
TZOFFSETTO:-0400
RDATE:20190310T020000
RDATE:20200308T020000
END:DAYLIGHT
END:VTIMEZONE
BEGIN:VEVENT
UID:a6694ce4-902e-4392-b532-30805c644363
DTSTAMP:20260423T085810Z
DESCRIPTION:When most people hear about “Social Security benefits\,” the fi
 rst thought that comes to mind is income for older people who have retired
  from work. It’s true that the Social Security system provides a foundatio
 n of retirement income that permits seniors to live in dignity\, with over
  43 million retired workers receiving benefits each month.\n\nHowever\, th
 e Social Security system is also the foundation of economic security for m
 illions of family members of retired\, disabled or deceased workers. In ad
 dition to retirement benefits\, Social Security offers disability insuranc
 e protection to workers and their spouse and children\, as well as life in
 surance that pays monthly benefits to dependents if the worker dies. \n\nJ
 oin this webinar\, Social Security Benefits You’ve Never Heard of\, and Wh
 o is Eligible for Them\, to learn more about the eligibility requirements 
 for benefits for spouses and ex-spouses\, children\, and parents. About on
 e American family in four receives income from Social Security benefits\, 
 and many more could receive this income if they knew they were eligible.\n
 \nWho Should Participate: \nThis webinar is designed for those who are new
  to Social Security benefits and others who want to learn more about the l
 esser-known aspects of the program.\n\nPresenters:\nTracey Gronniger\, Jus
 tice in Aging\nKate Lang\, Justice in Aging
DTSTART;TZID=America/New_York:20181023T140000
DTEND;TZID=America/New_York:20181023T150000
LOCATION:
SUMMARY:Webinar: Social Security Benefits You’ve Never Heard of\, and Who i
 s Eligible for Them
END:VEVENT
END:VCALENDAR
