BEGIN:VCALENDAR
VERSION:2.0
PRODID:-//www.thearcfamilyinstitute.org//NONSGML kigkonsult.se iCalcreator 
 2.30.10//
CALSCALE:GREGORIAN
METHOD:PUBLISH
UID:1e3dbf58-6a89-4616-b75d-8c1c483dc9ac
X-WR-CALDESC:Research is overwhelming that it is imperative to consider tra
 uma when working with people with I/DD.  Karyn Harvey will review the topi
 c and provide invaluable insights for anyone working with this population.
X-WR-RELCALID:267e37c8affad2284adfb0f60b4932bd
X-WR-TIMEZONE:America/New_York
BEGIN:VTIMEZONE
TZID:America/New_York
BEGIN:STANDARD
TZNAME:EST
DTSTART:20171105T020000
TZOFFSETFROM:-0400
TZOFFSETTO:-0500
RDATE:20181104T020000
RDATE:20191103T020000
END:STANDARD
BEGIN:DAYLIGHT
TZNAME:EDT
DTSTART:20180311T020000
TZOFFSETFROM:-0500
TZOFFSETTO:-0400
RDATE:20190310T020000
RDATE:20200308T020000
END:DAYLIGHT
END:VTIMEZONE
BEGIN:VEVENT
UID:d35e4f4f-41c4-4d1c-a0e8-131bc923e8d5
DTSTAMP:20260423T085419Z
DESCRIPTION:Research is overwhelming that it is imperative to consider trau
 ma when working with people with I/DD.  Karyn Harvey will review the topic
  and provide invaluable insights for anyone working with this population.
DTSTART;TZID=America/New_York:20181018T140000
DTEND;TZID=America/New_York:20181018T150000
LOCATION:
SUMMARY:Webinar: Understanding Trauma Informed Care for People with I/DD
END:VEVENT
END:VCALENDAR
